BEGIN:VCALENDAR
VERSION:2.0
PRODID:-//wp-events-plugin.com//7.2.3.1//EN
TZID:Europe/Rome
X-WR-TIMEZONE:Europe/Rome
BEGIN:VEVENT
UID:43953@lazioeventi.com
DTSTART;TZID=Europe/Rome:20260227T100000
DTEND;TZID=Europe/Rome:20260319T190000
DTSTAMP:20260305T112027Z
URL:https://lazioeventi.com/eventi/estensione-mostra-personale-antologica-
 irma-costa
SUMMARY:Estensione Mostra personale Antologica Irma Costa - Roma - 27 Febbr
 aio 26 10:00
DESCRIPTION:Il grande riscontro di pubblico all'opening dello scorso 27 Feb
 braio e durante i giorni immediatamente successivi\, ha orientato la decis
 ione di estendere fino al 19 Marzo la mostra antologica dedicata a Irma Co
 sta!\n\nLo sviluppo espositivo articolato nelle tre galleries di Via Merul
 ana 220\, Via Angelo Poliziano 4-6 e 32-34\, si combina quindi con un'ampi
 ezza temporale importante.\n\nUna decisione significativa per un progetto 
 espositivo che ripercorre oltre sessant’anni di ricerca pittorica\, rest
 ituendo la coerenza e la forza di un percorso tra i più personali nel pan
 orama artistico italiano del secondo Novecento. Dal disegno e l’incision
 e fino al gesto pittorico energico\, teso e dinamico\, passando per la sta
 gione lirica del colore e dell’acquerello.\n\nL'esperienza è aumentata 
 dai testi critico-curatoriali di Giulia Majer\, concepiti come strumenti d
 'integrazione delle diverse stagioni: l'Arte di Irma Costa nasce da elemen
 ti reali - il paesaggio\, il mare\, la città - ma si allontana da ogni in
 tento descrittivo per trasformarsi in visione interiore - spazi immensi\, 
 cieli notturni\, orizzonti larghi e città metafisiche diventano luoghi di
  attesa\, sospesi tra memoria\, sogno e immaginazione in equilibrio rigoro
 so.
ATTACH;FMTTYPE=image/jpeg:https://lazioeventi.com/wp-content/uploads/2026/
 03/Irma-costa-locandina.jpg
CATEGORIES:Arte e Cultura nel Lazio
LOCATION:Roma\, Via Leopardi\, Roma\, Roma\, Lazio\, Italia
GEO:41.8942;12.5017
X-APPLE-STRUCTURED-LOCATION;VALUE=URI;X-ADDRESS=Via Leopardi\, Roma\, Roma\
 , Lazio\, Italia;X-APPLE-RADIUS=100;X-TITLE=Roma:geo:41.8942,12.5017
END:VEVENT
BEGIN:VTIMEZONE
TZID:Europe/Rome
X-LIC-LOCATION:Europe/Rome
BEGIN:STANDARD
DTSTART:20251026T020000
TZOFFSETFROM:+0200
TZOFFSETTO:+0100
TZNAME:CET
END:STANDARD
END:VTIMEZONE
END:VCALENDAR