BEGIN:VCALENDAR
VERSION:2.0
PRODID:-//wp-events-plugin.com//7.2.3.1//EN
TZID:Europe/Rome
X-WR-TIMEZONE:Europe/Rome
BEGIN:VEVENT
UID:38896@lazioeventi.com
DTSTART;TZID=Europe/Rome;VALUE=DATE:20240426
DTEND;TZID=Europe/Rome;VALUE=DATE:20240503
DTSTAMP:20240406T161856Z
URL:https://lazioeventi.com/eventi/etruriart-roma2024
SUMMARY:ETRURIART-ROMA2024 - Roma - 26 Aprile 24 00:00
DESCRIPTION:La Collettiva d’Arte EtruriArt Roma 2024 è una esposizione d
 i opere\, tra cui dipinti\, sculture\, ceramiche artistiche di soci Etruri
 Art aps impegnati da molti anni nelle attività sociali per la divulgazion
 e e valorizzazione dell’arte in ogni sua forma ... Forme artistiche in c
 ui si fondono stili e correnti d'arte in una sintesi indissolubile dell'un
 ione tra l’artista e la storia. Un repertorio di opere d'arte uniche nel
  loro genere\, con la partecipazione di 17 artisti di particolare pregio.\
 n\nGraziana Celaschi\, Rosanna Chiani\, Raffaella Cristofari\, Marco de Sa
 ntis\, Adele Franchi\, Giuliana Garrone\, Delia Gionfrida\, Catia Lelli\, 
 Adalberto Manfellotto ( Manf) Piero Mariani\, Beniamino Molon\, Maura Musc
 ogiuri\, Maria Pacetti\, Marco Pintus\, Rosanna Troncarelli\, Carla Vaccar
 elli\, Loredana Vitiello.\nDirettore artistico: Marco De Santis.
ATTACH;FMTTYPE=image/jpeg:https://lazioeventi.com/wp-content/uploads/2024/
 04/COLLETTIVA-LOCANDINA-1-1.jpg
CATEGORIES:Arte e Cultura nel Lazio
LOCATION:Roma\, Via Leopardi\, Roma\, Roma\, Lazio\, Italia
GEO:41.8942;12.5017
X-APPLE-STRUCTURED-LOCATION;VALUE=URI;X-ADDRESS=Via Leopardi\, Roma\, Roma\
 , Lazio\, Italia;X-APPLE-RADIUS=100;X-TITLE=Roma:geo:41.8942,12.5017
END:VEVENT
BEGIN:VTIMEZONE
TZID:Europe/Rome
X-LIC-LOCATION:Europe/Rome
BEGIN:DAYLIGHT
DTSTART:20240331T030000
TZOFFSETFROM:+0100
TZOFFSETTO:+0200
TZNAME:CEST
END:DAYLIGHT
END:VTIMEZONE
END:VCALENDAR