BEGIN:VCALENDAR
VERSION:2.0
PRODID:-//wp-events-plugin.com//7.2.3.1//EN
TZID:Europe/Rome
X-WR-TIMEZONE:Europe/Rome
BEGIN:VEVENT
UID:36891@lazioeventi.com
DTSTART;TZID=Europe/Rome;VALUE=DATE:20230909
DTEND;TZID=Europe/Rome;VALUE=DATE:20230911
DTSTAMP:20230901T102221Z
URL:https://lazioeventi.com/eventi/eventi-a-gavignano
SUMMARY:Eventi a Gavignano - Gavignano - 9 Settembre 23 00:00
DESCRIPTION:L’associazione “Arte Libera-mente” di Gavignano – nell
 ’ambito degli eventi organizzati per l’estate gavignanese – presenta
  due iniziative in programma:\n\nI NOSTRI RICORDI - sabato 9 settembre all
 e ore 21\,00.\nL’evento\, organizzato dalla nostra associazione\, non è
  rivolto soltanto agli appassionati di calcio ma a  tutti coloro che\, vol
 enti o nolenti\, hanno memoria delle prodezze di questi valenti calciatori
 \,  i nostri  giovani ne hanno sentito soltanto parlare nelle infinite dis
 cussioni al Bar\, avranno  invece modo di conoscerli meglio .  \nAttravers
 o  le loro maglie\, racconti\, aneddoti e proiezioni\, Emilio\, Ettore e D
 iego\, ci faranno tornare un po’ indietro nel tempo  e sicuramente passe
 remo una bella e piacevole serata al “Pincetto”. \n\nTORNEO DI SCACCHI
  IN BIBLIOTECA - domenica 10 settembre alle ore 10\,00.\nSiamo sempre più
  convinti che il gioco degli scacchi\,   oltre che uno sport benefico per 
 la mente\, è un’alta forma d’Arte. \nPer questo vi invitiamo a partec
 ipare alla TERZA GIORNATA DEGLI SCACCHI\, organizzata nella biblioteca di 
 Arte Libea-Mente\, Domenica 10 settembre prossimo a partire dalle ore 10\,
 00. Avremo l’onore di avere con noi il Maestro di scacchi Alessandro Pom
 pa. Il torneo è aperto a tutti e tutti riceveranno un premio. \n\n
ATTACH;FMTTYPE=image/jpeg:https://lazioeventi.com/wp-content/uploads/2023/
 09/nostri-ricordi.jpg
CATEGORIES:Sport, Tempo Libero e Divertimento nel Lazio
LOCATION:Gavignano\, Comune\, Gavignano\, Roma\, Lazio\, Italia
GEO:41.6983;13.0525
X-APPLE-STRUCTURED-LOCATION;VALUE=URI;X-ADDRESS=Comune\, Gavignano\, Roma\,
  Lazio\, Italia;X-APPLE-RADIUS=100;X-TITLE=Gavignano:geo:41.6983,13.0525
END:VEVENT
BEGIN:VTIMEZONE
TZID:Europe/Rome
X-LIC-LOCATION:Europe/Rome
BEGIN:DAYLIGHT
DTSTART:20230326T030000
TZOFFSETFROM:+0100
TZOFFSETTO:+0200
TZNAME:CEST
END:DAYLIGHT
END:VTIMEZONE
END:VCALENDAR