BEGIN:VCALENDAR
VERSION:2.0
PRODID:-//wp-events-plugin.com//7.2.3.1//EN
TZID:Europe/Rome
X-WR-TIMEZONE:Europe/Rome
BEGIN:VEVENT
UID:37942@lazioeventi.com
DTSTART;TZID=Europe/Rome:20231124T080000
DTEND;TZID=Europe/Rome:20231126T160000
DTSTAMP:20231124T102540Z
URL:https://lazioeventi.com/eventi/evootrends
SUMMARY:EvooTrends - Roma - 24 Novembre 23 08:00
DESCRIPTION:Dal 24 al 26 novembre al mercato di Campagna Amica al Circo Mas
 simo si svolgerà EvooTrends\, la manifestazione dedicata all’olio evo o
 rganizzata da Fiera Roma e Unaprol – Consorzio Olivicolo Italiano e con 
 la collaborazione di Coldiretti Lazio\, Fondazione Campagna Amica e Fondaz
 ione Evoo School.\n\nL’olio Extravergine d’oliva è il re indiscusso d
 ella dieta mediterranea e un’eccellenza del nostro Paese\, rendendolo un
 ico al mondo.\n\nRaccontare gli ulivi e l’olio Evo è come scattare una 
 fotografia del paesaggio\, della cultura e delle tradizioni della nostra b
 ella Italia.\n\nQuest’anno EvooTrends ha scelto come location il Mercato
  di Campagna Amica al Circo Massimo\, luogo altamente simbolico per la cit
 tà di Roma\, che sarà agorà di approfondimento\, dibattitto e allo stes
 so tempo area espositiva e mercato\, uno spazio ideale per accogliere gli 
 addetti ai lavori\, i buyer internazionali\, ma anche cittadini e consumat
 ori amanti dell’olio.\n
ATTACH;FMTTYPE=image/jpeg:https://lazioeventi.com/wp-content/uploads/2023/
 11/EvooTrends.jpg
CATEGORIES:Fiere e Mercatini nel Lazio,Arte e Cultura nel Lazio,Varie
LOCATION:Roma\, Via Leopardi\, Roma\, Roma\, Lazio\, Italia
GEO:41.8942;12.5017
X-APPLE-STRUCTURED-LOCATION;VALUE=URI;X-ADDRESS=Via Leopardi\, Roma\, Roma\
 , Lazio\, Italia;X-APPLE-RADIUS=100;X-TITLE=Roma:geo:41.8942,12.5017
END:VEVENT
BEGIN:VTIMEZONE
TZID:Europe/Rome
X-LIC-LOCATION:Europe/Rome
BEGIN:STANDARD
DTSTART:20231029T020000
TZOFFSETFROM:+0200
TZOFFSETTO:+0100
TZNAME:CET
END:STANDARD
END:VTIMEZONE
END:VCALENDAR