BEGIN:VCALENDAR
VERSION:2.0
PRODID:-//wp-events-plugin.com//7.2.3.1//EN
TZID:Europe/Rome
X-WR-TIMEZONE:Europe/Rome
BEGIN:VEVENT
UID:32609@lazioeventi.com
DTSTART;TZID=Europe/Rome:20221103T180000
DTEND;TZID=Europe/Rome:20221130T200000
DTSTAMP:20221006T195721Z
URL:https://lazioeventi.com/eventi/experimenta-the-other-photography
SUMMARY:Experimenta. The Other Photography - Roma - 3 Novembre 22 18:00
DESCRIPTION:EXPERIMENTA. THE OTHER PHOTOGRAPHY\nMostra Collettiva Internazi
 onale Fotografica\n\nPresso Millepiani\, via N. Odero\,13 Roma\n\nOpening 
 giovedì 3 Novembre ore 18:00 │Free Entry / Free Aperitif\n\nEvento Face
 book: https://bit.ly/3T2FihO\n\n-\n\nMostra visitabile dal 3 al 30 Novembr
 e 2022 dal lunedì al venerdì dalle ore 9:00 alle ore 19:00\n\nEvento cur
 ato da LoosenArt\n\nwww.loosenart.com\n\n-\n\nParadigma della modernità\,
  già a partire dalla prima metà del '900 la fotografia diviene mezzo att
 raverso il quale autori come Florence Henri\, Man Ray\, László Moholy-Na
 gy e tanti altri\, offrono nuove visioni della realtà\, osservando\, anal
 izzando e ponendo domande non solo sul piano scientifico\, culturale\, soc
 iale ecc. degli oggetti/soggetti\, ma anche sul ruolo e sul senso più pro
 fondo dell'atto fotografico.\n\nGrazie all'irrompere del digitale\, le sue
  applicazioni e alla sua trasversalità operativa\, sempre nuove tecniche\
 , procedimenti e nuovi approcci concettuali alla "scrittura della luce" so
 no oggi in continua evoluzione. Una fotografia sperimentale\, quella conte
 mporanea\, che propone nuovi linguaggi e nuove estetiche che riguardano l'
 esperienza dell'uomo nel rapporto con l'ambiente e la sua percezione.\n\nI
 l tempo della sperimentazione non è lineare\, bensì circolare. Attingere
  alle svariate e infinite possibilità concesse da soggetti\, tecniche e p
 alette cromatiche permette infatti di muoversi liberamente non solo nello 
 spazio\, ma anche nel tempo. In questa esplorazione’ che non presuppone 
 né un inizio né una fine\, la voglia di tentare nuovi percorsi si fa lar
 go tra la folla di immagini. Ed è in quest’ottica che va considerato il
  tema messo a fuoco dalla mostra collettiva “Experimenta. The Other Phot
 ography”. L’esposizione\, aperta al pubblico dal 3 al 30 novembre 2022
  presso lo Spazio Millepiani di Roma\, è dunque un riflesso\, il risultat
 o di tale esplorazione sperimentale nel campo della fotografia e del digit
 ale.\n\n• • •\n\nFotografi\n\n3 – 11 November\n\nAgnieszka Kot\, A
 lessandro de Leo\, Anastasia Suprunenko\, Anthi Simeonidou\, Daniel Marque
 z\, Faizan Adil\, Ingrid Dorner\, Laurentina Miksys\, Marco Bordignon\, Ma
 rgo Geddes\, Mikhail Roninson\, Oriana Poindexter\, Patrizia Riviera\, Sag
 e Green\, Sajede Hoseini\, Temo Dou\n\n14 – 22 November\n\nAdam Michael 
 Starr\, Ausra Barysiene\, Caleb Portfolio\, Chao Li\, Cynthia Hendrick\, D
 avid Solomita\, Egor Beketov\, Elena Kuznetsova\, Ike Abakah\, Ingrida Urb
 onavičienė\, Irmari Nacht\, Isidoros Blougkaris\, José Luis Martínez A
 rce\, Liz Long\, Nikolay Vlahov\, Patrizia Pedraza\, Preda Silviu\, Sherry
  Karver\, Sue Ridge\, Vanessa Brici\n\n23 – 30 November\n\nAngelo del Ne
 gro\, Arnold Manda\, Darina Kharaman\, Christian Garza and Nicholas Gully\
 , Deb A. Davis\, Ellie Sass\, Esteban Garay Huarcaya\, Fatemeh Rastegartal
 ab Tabrizi\, Giorgio Gerardi\, Jana Kubankova\, Katarina Galić\, Katrin L
 oy\, Kersten WJ\, Kylo-Patrick Hart\, Matheus Ramalho\, Omar Reyna\, Paulo
  Madureira\, Rose Claxton\, Sonya Zavalina\, Taner Dikkaya\, Tecla Negro\,
  Tito Barajas
ATTACH;FMTTYPE=image/jpeg:https://lazioeventi.com/wp-content/uploads/2022/
 10/Experimenta-Ita-R.jpg
CATEGORIES:Arte e Cultura nel Lazio
LOCATION:Roma\, Via Leopardi\, Roma\, Roma\, Lazio\, Italia
GEO:41.8942;12.5017
X-APPLE-STRUCTURED-LOCATION;VALUE=URI;X-ADDRESS=Via Leopardi\, Roma\, Roma\
 , Lazio\, Italia;X-APPLE-RADIUS=100;X-TITLE=Roma:geo:41.8942,12.5017
END:VEVENT
BEGIN:VTIMEZONE
TZID:Europe/Rome
X-LIC-LOCATION:Europe/Rome
BEGIN:STANDARD
DTSTART:20221030T020000
TZOFFSETFROM:+0200
TZOFFSETTO:+0100
TZNAME:CET
END:STANDARD
END:VTIMEZONE
END:VCALENDAR