BEGIN:VCALENDAR
VERSION:2.0
PRODID:-//wp-events-plugin.com//7.2.3.1//EN
TZID:Europe/Rome
X-WR-TIMEZONE:Europe/Rome
BEGIN:VEVENT
UID:34281@lazioeventi.com
DTSTART;TZID=Europe/Rome:20230306T183000
DTEND;TZID=Europe/Rome:20230306T230000
DTSTAMP:20230227T124358Z
URL:https://lazioeventi.com/eventi/falo-di-san-tommaso
SUMMARY:Falò di San Tommaso - Roccasecca - 6 Marzo 23 18:30
DESCRIPTION:Falò di San Tommaso\n\nPerché le tradizioni sono valori da co
 nservare... E noi a Roccasecca ne custodiamo di speciali.\n\nI fuochi – 
 in dialetto “favoni” - si accendono almeno tre volte in un anno: alla 
 Festa  dell’Annunziata\, a San Pietro Martire e in occasione della Festa
  di San Tommaso.\nLa festa di San Tommaso è stata proclamata dalla chiesa
  il 28 febbraio ma a Roccasecca è il 7 marzo.  \nIn questo giorno ci si r
 ecava a piedi nei ruderi del castello dei conti di Aquino e\, dopo aver co
 mprato le ciambelle cotte a vapore nella piazza del castello\, si mangiava
  pane e frittata e  pane e salsiccia fresca appena essiccata.\nLa sera pre
 cedente alla festa si accendono i fuochi in onore del Santo.\n\nA soli 5 e
 uro:\n-Tagiareglie e Fasur\n-Tesechelle e Vin Brulè\n-Patate sotto la Cen
 ere
ATTACH;FMTTYPE=image/jpeg:https://lazioeventi.com/wp-content/uploads/2023/
 02/falo-san-tommaso-roccasecca.jpg
CATEGORIES:Sagre, Gastronomia e Tradizioni nel Lazio
LOCATION:Roccasecca\, Via Severino\, Roccasecca\, Frosinone\, Lazio\, Itali
 a
GEO:41.5537;13.6683
X-APPLE-STRUCTURED-LOCATION;VALUE=URI;X-ADDRESS=Via Severino\, Roccasecca\,
  Frosinone\, Lazio\, Italia;X-APPLE-RADIUS=100;X-TITLE=Roccasecca:geo:41.5
 537,13.6683
END:VEVENT
BEGIN:VTIMEZONE
TZID:Europe/Rome
X-LIC-LOCATION:Europe/Rome
BEGIN:STANDARD
DTSTART:20221030T020000
TZOFFSETFROM:+0200
TZOFFSETTO:+0100
TZNAME:CET
END:STANDARD
END:VTIMEZONE
END:VCALENDAR