BEGIN:VCALENDAR
VERSION:2.0
PRODID:-//wp-events-plugin.com//7.2.3.1//EN
TZID:Europe/Rome
X-WR-TIMEZONE:Europe/Rome
BEGIN:VEVENT
UID:38644@lazioeventi.com
DTSTART;TZID=Europe/Rome:20240301T090000
DTEND;TZID=Europe/Rome:20240324T193000
DTSTAMP:20240227T093832Z
URL:https://lazioeventi.com/eventi/fare-arte
SUMMARY:Fare Arte - Pomezia - 1 Marzo 24 09:00
DESCRIPTION:A Pomezia arriva Fare Arte\, una rassegna artistica che vede im
 pegnati gli artisti di Assopleiadiarte che è l’organizzatrice\, ed arti
 sti di ogni dove. \n\nIn calendario quattro mostre\, una personale a tre\,
  e tre collettive\, che saranno in visione del pubblico per tutto il mese 
 di marzo 2024 presso la Torre Civica di Pomezia. La rassegna\, patrocinata
  dal comune di Pomezia\, prevede l’esposizione di opere pittoriche\, dis
 egno\, scultura e mosaico che spaziano nelle più varie tecniche.  \n\nSi 
 inizierà con “Super Moon”\, la mostra è prevista il 1-2-3 marzo. \nP
 rotagonista della collettiva è la luna\, rappresentata in ogni stile e te
 cnica. Notturni magici e bagliori lunari si spalmano su paesaggi misterios
 i. Di proseguo “Noi”\, la prima personale di Cathy Kieffer\, Luigia Ga
 brieli e Sonia Scognamiglio\, che le vedrà impegnate l’8-9-10 marzo\, p
 roprio in occasione della Festa della Donna. Le tre pittrici si confronter
 anno con opere di ultima produzione che vanno dal paesaggio al figurativo\
 , spaziando nelle più varie tecniche pittoriche. \n\nIl 15-16-17 marzo\, 
 “Sfumature di Rosso o di Blu”. \nIn questa collettiva\, questi saranno
  i colori\, con   i quali gli artisti potranno esporre le loro opere\, sia
  in rosso sia in blù e colori derivanti\, o solo monocromatico con uno de
 i due. Ultimo appuntamento con “Alberi e paesaggi incantati”\, un viag
 gio nella paesaggistica e nella natura\, una collettiva che il 22-23-24 ma
 rzo ci porterà la poesia delle foreste e delle ambientazioni boschive\, r
 icche di fascino e di incanto\, è il tema della mostra che chiuderà la r
 assegna Fare Arte\, a dimostrazione di quanta creatività si evince nel no
 stro territorio di Pomezia e dintorni. Paolo Sommaripa\, che questo anno c
 elebra i suoi 50 anni si arte\, artista e presidente di Assopleiadiarte\, 
 continua la conduzione di questa associazione artistica originale\, viva e
  sempre pronta alla promozione dell’arte e della cultura nella nostra ci
 ttà. \n\nVisite\; 9.00- 12.30 e 16.00-19.30. Vernissage venerdì 1 marzo 
 alle 18.00.
ATTACH;FMTTYPE=image/jpeg:https://lazioeventi.com/wp-content/uploads/2024/
 02/pomezia-fare-arte.jpg
CATEGORIES:Arte e Cultura nel Lazio
LOCATION:Pomezia\, Comune\, Pomezia\, Roma\, Lazio\, Italia
GEO:41.6732;12.5004
X-APPLE-STRUCTURED-LOCATION;VALUE=URI;X-ADDRESS=Comune\, Pomezia\, Roma\, L
 azio\, Italia;X-APPLE-RADIUS=100;X-TITLE=Pomezia:geo:41.6732,12.5004
END:VEVENT
BEGIN:VTIMEZONE
TZID:Europe/Rome
X-LIC-LOCATION:Europe/Rome
BEGIN:STANDARD
DTSTART:20231029T020000
TZOFFSETFROM:+0200
TZOFFSETTO:+0100
TZNAME:CET
END:STANDARD
END:VTIMEZONE
END:VCALENDAR