BEGIN:VCALENDAR
VERSION:2.0
PRODID:-//wp-events-plugin.com//7.2.3.1//EN
TZID:Europe/Rome
X-WR-TIMEZONE:Europe/Rome
BEGIN:VEVENT
UID:30697@lazioeventi.com
DTSTART;TZID=Europe/Rome:20220501T100000
DTEND;TZID=Europe/Rome:20220501T150000
DTSTAMP:20220428T052726Z
URL:https://lazioeventi.com/eventi/fave-pecorino-e-ciuchino
SUMMARY:Fave\, Pecorino e Ciuchino - Canepina - 1 Maggio 22 10:00
DESCRIPTION:Più di duemila anni fa Ippocrate diceva che camminare è la mi
 gliore medicina per l'uomo..\n\n10 km di passeggiata in mezzo alla natura\
 , circondati da piante secolari di castagno\, a fianco di un animale parti
 colarmente socievole come l'asino. Nemmeno Ippocrate si immaginava un medi
 cinale così potente!\n\nNiente di speciale\, nessun monumento d'interesse
 \, nessun edificio storico\, solo una piacevole "fatica" di camminare...\n
 Come sempre vi aspettiamo al parcheggio di Poggio San Vito. Da lì scendia
 mo verso Canepina. Per il pranzo ci fermiamo al nostro casaletto nascosto 
 nel castagneto. Qui "parcheggiamo" gli asini e prepariamo i nostri panini 
 con la salsiccia appena fatta sulla brace. Ovviamente non mancheranno le f
 ave e pecorino\n\nCi prendiamo tutto il tempo che ci serve per riprendere 
 le forze per ritornare al punto di partenza.\n\nConsigliamo scarponi da tr
 ekking e abbigliamento sportivo.\n\nAppuntamento ore 10.00 piazzale/parche
 ggio a Poggio San Vito (vedi Google Maps - Poggio San Vito Canepina VT) *c
 hiediamo di esser puntuali*\nDurata circa 5 ore.\nDistanza circa 10 km\nDi
 slivello 250m\nQuota individuale di partecipazione 18€ Ragazzi da 5-13 a
 nni 7 € (panino\, fave e pecorino incluso)\n*Bambini devono avere l'auto
 nomia di percorrere la distanza a piedi. Non si viaggia sopra l'asino.\nCa
 ni ammessi al guinzaglio\n\nL'organizzazione si riserva il diritto di annu
 llare o rinviare la passeggiata in base alle condizioni del meteo.\n\nPer 
 informazioni e prenotazioni\n370 360 7909\, 324 681 2003\n\nVi aspettiamo 
 a piazzale/parcheggio Poggio San Vito\nCassia Cimina Sp. 1 km. 12\,750\nCa
 nepina (VT)
ATTACH;FMTTYPE=image/jpeg:https://lazioeventi.com/wp-content/uploads/2022/
 04/pecorino-ciuchino.jpg
CATEGORIES:Sport, Tempo Libero e Divertimento nel Lazio
LOCATION:Canepina\, Comune di Canepina\, Canepina\, Viterbo\, Lazio\, Itali
 a
GEO:42.3809;12.2335
X-APPLE-STRUCTURED-LOCATION;VALUE=URI;X-ADDRESS=Comune di Canepina\, Canepi
 na\, Viterbo\, Lazio\, Italia;X-APPLE-RADIUS=100;X-TITLE=Canepina:geo:42.3
 809,12.2335
END:VEVENT
BEGIN:VTIMEZONE
TZID:Europe/Rome
X-LIC-LOCATION:Europe/Rome
BEGIN:DAYLIGHT
DTSTART:20220327T030000
TZOFFSETFROM:+0100
TZOFFSETTO:+0200
TZNAME:CEST
END:DAYLIGHT
END:VTIMEZONE
END:VCALENDAR