BEGIN:VCALENDAR
VERSION:2.0
PRODID:-//wp-events-plugin.com//7.2.3.1//EN
TZID:Europe/Rome
X-WR-TIMEZONE:Europe/Rome
BEGIN:VEVENT
UID:43944@lazioeventi.com
DTSTART;TZID=Europe/Rome:20260315T170000
DTEND;TZID=Europe/Rome:20260315T190000
DTSTAMP:20260304T141548Z
URL:https://lazioeventi.com/eventi/fedra
SUMMARY:FEDRA - Roma - 15 Marzo 26 17:00
DESCRIPTION:La Realtà Teatrale Skenexodia\, nell’ambito della mini rasse
 gna DESIDERIOKDIVORA\, in programma sabato 14 e domenica 15 marzo presso i
 l Teatro Nuovo Piccolo Garbatella\, porterà in scena due spettacoli dedic
 ati a due grandi figure tragiche\, accomunate da una profonda conflittuali
 tà interiore: Dorian Gray\, protagonista del romanzo di Oscar Wilde\, e F
 edra\, eroina della mitologia greca. Due personaggi lontani nel tempo ma u
 niti dalla stessa tensione drammatica: il conflitto tra desiderio e morale
 \, tra apparenza e verità.\nDue epoche lontane\, ma un medesimo destino: 
 la bellezza e la passione\, quando si separano dall’etica\, diventano fo
 rze distruttive.\n\nSabato 14 marzo ore 21\,00\nDORIAN GRAY\ncon\nLuca Fio
 retti (Dorian)\, Simone De Rose (Basil)\, Simone Tisi (Lord Henry)\, Marta
  Longo (Sybill)\nAdattamento originale e regia di\nLuca Guerini\n\n-------
 --------------------\n\nDomenica 15 marzo ore 17\nFEDRA\ncon\nRoberta Sart
 i (Fedra)\, Fabrizio Giacomozzi (Teseo)\, Vincenzo Filice (Ippolito)\, Ele
 onora Bucci (Nutrice)\nAdattamento originale e regia di\nLuca Guerini\nPro
 duzione\nRealtà teatrale Skenexodia\n\nRealizzati in collaborazione con i
 l Centro Sperimentale Artistico delle Marche\n\nAvvertenza:\nEntrambi gli 
 spettacoli contengono scene di nudo integrale non volgare\n\nDORIAN GRAY\n
 La storia ruota attorno a Dorian Gray\, un giovane e affascinante uomo di 
 Londra\, la cui bellezza esteriore è straordinaria. Dorian diventa il sog
 getto di un dipinto realizzato dal pittore Basil Hallward\, che è affasci
 nato dalla sua bellezza. Durante il processo di pittura\, Dorian esprime i
 l desiderio di rimanere giovane e bello per sempre\, mentre il ritratto in
 vecchierà al suo posto. Nel corso della storia\, Dorian vive una vita di 
 eccessi\, corruzione e immoralità\, influenzato da Lord Henry Wotton\, un
  aristocratico cinico che lo spinge a vivere senza scrupoli. La sua bellez
 za esteriore rimane intatta\, ma il ritratto diventa sempre più deformato
  e oscuro\, riflettendo i suoi peccati e il deteriorarsi della sua anima. 
 Col passare del tempo\, Dorian si rende conto che il quadro è una rappres
 entazione dei suoi vizi e delle sue azioni\, e questo lo porta alla rovina
 .\nCITAZIONE:\n«Basil Hallward è quello che credo di essere\, Henry Wott
 on è come il mondo mi dipinge e Dorian Gray è quello che mi piacerebbe e
 ssere». ​\nNOTE DI REGIA:\nHo scelto di ambientare questa storia univer
 salmente nota negli anni Trenta\, ispirandomi alle atmosfere pittoriche di
  Jack Vettriano. Un’epoca segnata dalla Grande Depressione e da profonde
  incertezze economiche e politiche\, in cui il bisogno di evasione\, lusso
  e piaceri fugaci si amplifica. È proprio in questo contesto\, sospeso tr
 a eleganza e inquietudine\, che il contrasto tra bellezza e vuoto interior
 e\, centrale nel Ritratto di Dorian Gray\, trova una cornice ideale. Come 
 nel romanzo di Wilde\, anche nei suoi quadri l’estetica diventa maschera
  di un’inquietudine più profonda\, rivelando l’illusione della bellez
 za eterna e il prezzo nascosto del desiderio.\n\nFEDRA\nUna donna è attra
 versata da un desiderio che non riesce a controllare\, un sentimento che s
 a essere proibito e distruttivo. Vive questo conflitto in silenzio\, comba
 ttuta tra il senso di colpa e l’urgenza di dare una forma a ciò che la 
 consuma. L’uomo verso cui è diretta la sua passione rifiuta ogni legame
  sentimentale e reagisce con durezza quando il sentimento viene rivelato\,
  ribadendo la propria distanza e il proprio rifiuto. Dopo questo rifiuto\,
  la donna trasforma il proprio tormento in accusa\, innescando una catena 
 di eventi irreversibili. L’accusa viene creduta e provoca una punizione 
 violenta e ingiusta nei confronti dell’uomo\, che ne subisce le consegue
 nze. Solo quando il danno è ormai compiuto emerge la verità\, lasciando 
 spazio a una consapevolezza amara: l’incapacità di governare le passion
 i e le parole può distruggere le relazioni e travolgere le vite di tutti 
 i personaggi coinvolti.\nCITAZIONE\n«Un delitto nasconda un altro delitto
 . Quando sei in pericolo\, l’attacco è la difesa più sicura. Se siamo 
 colpevoli o vittime chi potrà testimoniarlo»\nNOTE DI REGIA\nAmbientare 
 Fedra nel 1968 significa collocare la tragedia in un tempo di frattura gen
 erazionale e di crisi dell’autorità\, in cui l’ordine costituito vien
 e messo in discussione e i legami familiari si incrinano. In questo contes
 to\, il conflitto centrale del mito lo scontro tra desiderio e legge trova
  una risonanza immediata.\n\nIngresso: € 18\,00\n
ATTACH;FMTTYPE=image/jpeg:https://lazioeventi.com/wp-content/uploads/2026/
 03/FEDRA25-GARBATELLA.jpg
CATEGORIES:Musica, Spettacoli e Danza nel Lazio
LOCATION:Roma\, Via Leopardi\, Roma\, Roma\, Lazio\, Italia
GEO:41.8942;12.5017
X-APPLE-STRUCTURED-LOCATION;VALUE=URI;X-ADDRESS=Via Leopardi\, Roma\, Roma\
 , Lazio\, Italia;X-APPLE-RADIUS=100;X-TITLE=Roma:geo:41.8942,12.5017
END:VEVENT
BEGIN:VTIMEZONE
TZID:Europe/Rome
X-LIC-LOCATION:Europe/Rome
BEGIN:STANDARD
DTSTART:20251026T020000
TZOFFSETFROM:+0200
TZOFFSETTO:+0100
TZNAME:CET
END:STANDARD
END:VTIMEZONE
END:VCALENDAR