BEGIN:VCALENDAR
VERSION:2.0
PRODID:-//wp-events-plugin.com//7.2.3.1//EN
TZID:Europe/Rome
X-WR-TIMEZONE:Europe/Rome
BEGIN:VEVENT
UID:35343@lazioeventi.com
DTSTART;TZID=Europe/Rome:20230525T193000
DTEND;TZID=Europe/Rome:20230525T203000
DTSTAMP:20230509T153223Z
URL:https://lazioeventi.com/eventi/felicita-la-presentazione-a-cassino
SUMMARY:Felicità: la presentazione a Cassino - Cassino - 25 Maggio 23 19:3
 0
DESCRIPTION:Cassino. Appuntamento giovedì 25 maggio alle 19.30 presso Symp
 osio Context Cafè in Via Tommaso Piano 14\, per la presentazione di “Fe
 licità”\, nuovo romanzo di Gianni Contarino pubblicato dalla casa editr
 ice Scatole Parlanti (collana Voci\, pp. 328\, euro 18).\n\n"Felicità" è
  la storia della trasformazione di una donna per via del comportamento del
  padre. Si tratta di un riuscito mix di tragico e comico\, che affronta un
  tema sociale drammatico\, rendendolo interessante non solo per il lettore
  che vuole spunti di riflessione\, ma anche per quello che desidera divert
 imento.\nIl romanzo è ambientato a Riposto e\, attraverso una lunga serie
  di aneddoti\, parla di come la mente di Nunzia\, la protagonista\, vada a
 lla deriva per colpa del padre\, uno che si vanta della propria ignoranza 
 e che non contempla proprio il concetto di emancipazione femminile.\nScene
  comiche a momenti nostalgici\, eventi quasi pulp in stile Tarantino e dia
 loghi commoventi\, soprattutto quelli fra madre e figlia. C’è tanta mus
 ica in ogni capitolo\, praticamente una colonna sonora\, legata alle canzo
 ni degli anni in cui si svolgono le peripezie della protagonista\, da Vola
 re di Modugno a Help dei Beatles\, da Bandiera Bianca di Battiato a Dune B
 uggy\, famosa canzone del film Altrimenti ci arrabbiamo.\nFelicità è anc
 he un romanzo pieno di colori e sapori\, fra mare\, spiagge\, sole\, aranc
 ini\, caponate\, vino e torte\, non solo per l’ambientazione nella bella
  Riposto e nel suo hinterland\, ma anche grazie alla forte presenza dell
 ’Etna che a detta dell’autore si è imposta ricavandosi un ruolo nella
  vicenda di Nunzia.\n\nGianni Contarino è nato a Siracusa nel 1972. Laure
 ato in Ingegneria\, scrittore e poeta\, suoi racconti e poesie sono presen
 ti in diverse antologie e riviste. Del 2021 è il suo romanzo d’esordio 
 Punto zero (Scatole Parlanti). Felicità è la sua seconda pubblicazione.\
 , per la presentazione di “Felicità”\, nuovo romanzo di Gianni Contar
 ino pubblicato dalla casa editrice Scatole Parlanti (collana Voci\, pp. 32
 8\, euro 18).
ATTACH;FMTTYPE=image/jpeg:https://lazioeventi.com/wp-content/uploads/2023/
 05/FELICITA-Cassino-25-Maggio-2023-Post.jpg
CATEGORIES:Arte e Cultura nel Lazio
LOCATION:Cassino\, Comune di Cassino\, Cassino\, Frosinone\, Lazio\, Italia
GEO:41.4929518;13.830372300000022
X-APPLE-STRUCTURED-LOCATION;VALUE=URI;X-ADDRESS=Comune di Cassino\, Cassino
 \, Frosinone\, Lazio\, Italia;X-APPLE-RADIUS=100;X-TITLE=Cassino:geo:41.49
 29518,13.830372300000022
END:VEVENT
BEGIN:VTIMEZONE
TZID:Europe/Rome
X-LIC-LOCATION:Europe/Rome
BEGIN:DAYLIGHT
DTSTART:20230326T030000
TZOFFSETFROM:+0100
TZOFFSETTO:+0200
TZNAME:CEST
END:DAYLIGHT
END:VTIMEZONE
END:VCALENDAR