BEGIN:VCALENDAR
VERSION:2.0
PRODID:-//wp-events-plugin.com//7.2.3.1//EN
TZID:Europe/Rome
X-WR-TIMEZONE:Europe/Rome
BEGIN:VEVENT
UID:40256@lazioeventi.com
DTSTART;TZID=Europe/Rome:20241121T203000
DTEND;TZID=Europe/Rome:20241121T223000
DTSTAMP:20241113T093743Z
URL:https://lazioeventi.com/eventi/femmina-infame
SUMMARY:Femmina infame - Roma - 21 Novembre 24 20:30
DESCRIPTION:Al Teatro Palladium di Roma la prima assoluta di Femmina infame
 \nStoria di Caterina Medici bruciata come strega professa\ndi Guido Barbie
 ri\nmusiche di Giorgio Battistelli\, Tomas Luis de Victoria\, Francesco Fi
 lidei\, Lou Harrison\, Lorenzo Pagliei\, e Gabriella Schiavone\n\nRicordat
 a ne I Promessi Sposi di Alessandro Manzoni e interpretata dalla pluriprem
 iata attrice Elena Bucci\, la figura di Caterina Medici fa riflettere sull
 a condizione femminile in occasione della Giornata contro la violenza sull
 e donne\n\nIn occasione della Giornata internazionale contro la violenza s
 ulle donne\, che ricorre il 25 novembre\, la Fondazione Flavio Vespasiano 
 presenta l’opera di teatro musicale “Femmina infame. Storia di Caterin
 a Medici bruciata come strega professa” il 21 novembre al Teatro Palladi
 um di Roma.\n\nLo spettacolo\, una prima nazionale assoluta\, è interamen
 te dedicato alla condizione della donna come vittima e offre una riflessio
 ne profonda sul tema attraverso una narrazione potente e suggestiva.\n\nL
 ’opera si avvale della drammaturgia di Guido Barbieri e delle musiche di
  compositori contemporanei come Giorgio Battistelli\, Tomas Luis de Victor
 ia\, Francesco Filidei\, Lou Harrison\, Lorenzo Pagliei\, e Gabriella Schi
 avone. Protagonista è Elena Bucci (Premio Ubu 2016\, Premio Eleonora Duse
  2016\, Premio Hystrio - ANCT 2017\, Premio ERF 2022 alla carriera)\, che 
 con la sua esperienza e sensibilità arricchisce ulteriormente la potenza 
 espressiva dello spettacolo.\n\nA rendere unica la performance\, inoltre\,
  saranno le percussioni dell'Ensemble Ars Ludi – composto da Antonio Cag
 giano\, Rodolfo Rossi e Gianluca Ruggeri – e le evocative voci del Quart
 etto vocale a cappella Faraualla\, formato da Lucrezia Loredana Savino\, G
 abriella Schiavone\, Maristella Schiavone e Teresa Vallarella.\n\nL’inno
 vativo progetto teatrale commissionato dalla Fondazione Flavio Vespasiano 
 e realizzato con i fondi del Progetto Speciale del Ministero della Cultura
  ripercorre la tragica vicenda di Caterina Medici\, la cui vita\, segnata 
 dalla miseria\, dall'oppressione e dalle ingiuste accuse di stregoneria\, 
 culmina in una morte atroce sul rogo\, in netto contrasto con il destino g
 lorioso della sua celebre omonima\, Caterina de' Medici\, regina di Franci
 a.\n\nLa figura di Caterina Medici\, ricordata anche da Alessandro Manzoni
  nel capitolo XXXI de I Promessi Sposi\, diventa così simbolo di una soci
 età che condannava le donne al ruolo di vittime. Il racconto\, che coniug
 a musica\, storia e impegno sociale\, si sviluppa attraverso una lente cri
 tica\, offrendo al pubblico uno spaccato intenso e drammatico della realt
 à storica che le donne hanno dovuto affrontare nel corso dei secoli.\n\nI
  biglietti per gli spettacoli sono disponibili al botteghino a partire da 
 due ore prima dell’inizio di ogni spettacolo o online sul sito boxol.it/
 teatropalladium . Il prezzo di ciascun biglietto è di 20 euro intero\, 10
  euro ridotto. \nPer maggiori informazioni contattare staff.spettacolo@tea
 tropalladium.it\, ufficiostampa@reatefestival.it\n\nLa Fondazione Flavio V
 espasiano\, con sede a Rieti\, opera in ambito nazionale – la principale
  manifestazione organizzata è il Reate Festival - con l'obiettivo di prom
 uovere e valorizzare la musica d’arte\, con particolare riguardo al teat
 ro musicale e alla valorizzazione delle giovani generazioni di musicisti. 
 Sovrintendente della Fondazione è Lucia Bonifaci\, il direttore artistico
   Cesare Scarton. 
ATTACH;FMTTYPE=image/jpeg:https://lazioeventi.com/wp-content/uploads/2024/
 11/orecchie_Quartetto-vocale-a-cappella-Faraualla_-Lucrezia-Loredana-Savin
 o-Gabriella-Schiavone-Maristella-Schiavone-e-Teresa-Vallarella_ph.Giovanni
 -Albore_Femmina-Infame_Teatro-Palladium.jpg
CATEGORIES:Musica, Spettacoli e Danza nel Lazio
LOCATION:Roma\, Via Leopardi\, Roma\, Roma\, Lazio\, Italia
GEO:41.8942;12.5017
X-APPLE-STRUCTURED-LOCATION;VALUE=URI;X-ADDRESS=Via Leopardi\, Roma\, Roma\
 , Lazio\, Italia;X-APPLE-RADIUS=100;X-TITLE=Roma:geo:41.8942,12.5017
END:VEVENT
BEGIN:VTIMEZONE
TZID:Europe/Rome
X-LIC-LOCATION:Europe/Rome
BEGIN:STANDARD
DTSTART:20241027T020000
TZOFFSETFROM:+0200
TZOFFSETTO:+0100
TZNAME:CET
END:STANDARD
END:VTIMEZONE
END:VCALENDAR