BEGIN:VCALENDAR
VERSION:2.0
PRODID:-//wp-events-plugin.com//7.2.3.1//EN
TZID:Europe/Rome
X-WR-TIMEZONE:Europe/Rome
BEGIN:VEVENT
UID:31669@lazioeventi.com
DTSTART;VALUE=DATE:20220706
DTEND;VALUE=DATE:20220912
DTSTAMP:20220714T110437Z
URL:https://lazioeventi.com/eventi/ferentino-estate
SUMMARY:Ferentino Estate - Ferentino - 6 Luglio 22 00:00
DESCRIPTION:Torna l'appuntamento con “Ferentino Estate”: manifestazion
 e ricca di cultura\, arte\, tradizione\, moda e spettacolo\, con concerti\
 , artisti di strada\, antichi sapori e usanze tutte da riscoprire.\n\nLa c
 ittà di Ferentino offre un incantevole viaggio tra le bellezze del post
 o.\n\nFerentino Estate 2022 tutti gli eventi  di Ferentino dal 6 Luglio al
 l’ 11 settembre. \n\nOltre ottanta serate\, di cui la metà inserite nel
  bando ‘Tutto fa spettacolo’. Sette rassegne tra musica\, teatro\, cin
 ema\, sport\, cultura e fiabe per bambini. \n\nSei grandi ospiti speciali 
 – ai quali se ne aggiungeranno anche altri – ma\, soprattutto\, un car
 tellone variegato e multiforme che accompagnerà la stagione estiva.\n\n[g
 allery link="file" ids="154355\,154356\,154357\,154353\,154352\,154351"]
ATTACH;FMTTYPE=image/jpeg:https://lazioeventi.com/wp-content/uploads/2022/
 07/ferentino_estate2022_1.jpg
CATEGORIES:Sagre, Gastronomia e Tradizioni nel Lazio,Musica, Spettacoli e
 Danza nel Lazio,Sport, Tempo Libero e Divertimento nel Lazio
LOCATION:Ferentino\, Comune di Ferentino\, Ferentino\, Frosinone\, Lazio\, 
 Italia
GEO:41.6927;13.2534
X-APPLE-STRUCTURED-LOCATION;VALUE=URI;X-ADDRESS=Comune di Ferentino\, Feren
 tino\, Frosinone\, Lazio\, Italia;X-APPLE-RADIUS=100;X-TITLE=Ferentino:geo
 :41.6927,13.2534
END:VEVENT
END:VCALENDAR