BEGIN:VCALENDAR
VERSION:2.0
PRODID:-//wp-events-plugin.com//7.2.3.1//EN
TZID:Europe/Rome
X-WR-TIMEZONE:Europe/Rome
BEGIN:VEVENT
UID:42236@lazioeventi.com
DTSTART;TZID=Europe/Rome:20250815T190000
DTEND;TZID=Europe/Rome:20250815T234500
DTSTAMP:20250807T195646Z
URL:https://lazioeventi.com/eventi/ferragosto-a-capodimonte
SUMMARY:Ferragosto a Capodimonte - Capodimonte - 15 Agosto 25 19:00
DESCRIPTION:Il Comune di Capodimonte ha organizzato in occasione delle cele
 brazioni del 15 agosto\, una giornata all’insegna della tradizione\, del
 la spiritualità e della spettacolarità. \n\nLa serata inizierà alle ore
  19 con la tombola sul lungolago zona Rotonda e proseguirà con la process
 ione religiosa in onore del patrono di Capodimonte\, San Rocco\, che parti
 rà alle ore 21:30 dalla Chiesa di Santa Maria Assunta in Cielo e attraver
 serà le vie del centro storico per giungere fino alla Chiesa di San Rocco
 \, situata sul suggestivo lungolago.\n\nA seguire\, alle ore 23:00\, il ci
 elo di Capodimonte si illuminerà grazie a un grande spettacolo pirotecnic
 o\, unico nel suo genere in tutta la zona: i fuochi d’artificio saranno 
 infatti lanciati direttamente dalle acque del Lago di Bolsena\, creando gi
 ochi di luce riflessi sull’acqua e offrendo uno scenario mozzafiato. Lo 
 spettacolo sarà visibile da tutto il lungolago.\n\nPer agevolare la parte
 cipazione tutti i parcheggi saranno gratuiti a partire dalle ore 22:00. Un
 a serata imperdibile per vivere Capodimonte in un’atmosfera suggestiva e
  coinvolgente\, tra fede\, bellezza naturale e tradizione popolare.
ATTACH;FMTTYPE=image/jpeg:https://lazioeventi.com/wp-content/uploads/2025/
 08/ferragosto-capodimonte.jpeg
CATEGORIES:Sport, Tempo Libero e Divertimento nel Lazio
LOCATION:Capodimonte\, Comune\, Capodimonte\, Viterbo\, Lazio\, Italia
GEO:42.5475;11.9058
X-APPLE-STRUCTURED-LOCATION;VALUE=URI;X-ADDRESS=Comune\, Capodimonte\, Vite
 rbo\, Lazio\, Italia;X-APPLE-RADIUS=100;X-TITLE=Capodimonte:geo:42.5475,11
 .9058
END:VEVENT
BEGIN:VTIMEZONE
TZID:Europe/Rome
X-LIC-LOCATION:Europe/Rome
BEGIN:DAYLIGHT
DTSTART:20250330T030000
TZOFFSETFROM:+0100
TZOFFSETTO:+0200
TZNAME:CEST
END:DAYLIGHT
END:VTIMEZONE
END:VCALENDAR