BEGIN:VCALENDAR
VERSION:2.0
PRODID:-//wp-events-plugin.com//7.2.3.1//EN
TZID:Europe/Rome
X-WR-TIMEZONE:Europe/Rome
BEGIN:VEVENT
UID:31969@lazioeventi.com
DTSTART;TZID=Europe/Rome:20220815T113000
DTEND;TZID=Europe/Rome:20220815T234500
DTSTAMP:20220811T075631Z
URL:https://lazioeventi.com/eventi/ferragosto-live-festival-al-parco
SUMMARY:Ferragosto LIVE Festival al Parco - Ariccia - 15 Agosto 22 11:30
DESCRIPTION:Ferragosto LIVE Festival al Parco da mezzogiorno a mezzanotte\n
 \nA Parco Romano Biodistretto ad Ariccia\, piazzale dei daini 1\, lunedì 
 15 agosto 2022\, da pranzo a cena\, tra il fresco delle querce secolari\, 
 immersi nella natura\, Agricucina con i prodotti del mercato contadino e A
 gripizzeria (la sera) Beer garden con le migliori birre artigianali di Fus
 tock birreria molte opzioni vegane e musica live\n\nIncantevole e suggesti
 va la location dove l’etica e il rispetto per l’ambiente compongono lo
  spartito di un grande progetto per la sostenibilità ambientale e musical
 e.\nSovranità musicale e alimentare. Produzione propria a km0 di musicist
 i e produttori agricoli indipendenti che tutti i mercoledì\, sabato e dom
 enica si danno appuntamento a Parco con il mercato contadino Roma e Castel
 li Romani.\nCelebrare il Ferragosto in musica\, non per ricordare la metà
  dell’anno andata\, ma per “sognare l’altra metà che è da veni’
 ….”. Per avere il cielo sopra la propria testa\, senza farsi chiudere 
 in gabbia\, mentre la chitarra suona sé stessa sotto gli alberi centenari
 .\n\nIngresso gratuito dalle ore 11.30\, ti aspettiamo senza prenotazione.
 \nOggi si conclude il Ferragosto LIVE Festival con la direzione artistica 
 di Fabrizio Brocchieri e Andrea Giulio Casella\, grazie a Liberi di suonar
 e\, in collaborazione con Mei\, il Meeting delle Etichette indipendenti\, 
 il più importante incubatore della nuova scena musicale italiana indipend
 ente.\nFerragosto\, gli ultimi tre concerti imperdibili del Festival:\nOre
  12.30 Concerto The DUO - Sara Berni e Daniele Bazzani\nhttps://www.facebo
 ok.com/events/5503291283042706\n25 anni di Musica sui palchi di tutto il m
 ondo si sono incontrati nel 2017 nel progetto “the Billboard Songbook”
 : Sara Berni voce – Daniele Bazzani chitarra fingerstyle rivisitano sorp
 rendentemente e Hits mondiali degli ultimi 50 anni arricchendole con il lo
 ro progetto di musica originale\, ascoltabile solo dal vivo!\nIl video del
  loro primo singolo “What is Love?”\, in due settimane ha ottenuto una
  Nomination come “Best Music Video” e il Primo Premio per “Best Cost
 umes &amp\; Makeup” al Paris Film Festival 2022 e conquistato il Rome Pr
 isma Film Awards 2022 come “Finalist” nella categoria “Miglior Video
  Musicale”.\nhttps://www.facebook.com/Sara.Berni.Daniele.Bazzani\n\nOre 
 19 Concerto WHITE NOISE unplugged\nhttps://www.facebook.com/events/7937337
 15372477\nDa una costola dei White Noise nasce\, un duo parallelo alla ban
 d\, composto da Paolo Fiorani (voce) e Lorenzo Federici (chitarre) che pro
 pone il repertorio del cantautorato folk americano e inglese\, guardando a
 nche al blues e al country. Anche grandi classici del repertorio rock e pa
 rte del materiale originale dei White Noise riarrangiati in chiave acustic
 a.\nhttps://www.facebook.com/wn.unplugged\n\nore 21\,30 Concerto SILVIA OD
 DI\nhttps://www.facebook.com/events/606043767817936\nCantautrice romana cl
 asse 1988\, vena da compositrice veramente interessante\, abbina un ottimo
  gusto pop rock con elementi elettronico/new wave\, Debutta nel 2016 con l
 'album "Ingenua felicità" prodotto e arrangiato da Gianluca Salvi e distr
 ibuito da Gnu Wave. Vincitrice del Contest Museum Social Club indetto dal 
 Comune di Roma\, undici tracce che hanno avuto un ottimo riscontro da part
 e della critica. Premiata al Music Day di Roma 2017 come "Prezioso talento
  della musica”. Nel 2019 esce il secondo album “Niente a metà”\, ot
 to tracce che confermano la passione di Silvia per le sonorità New Wave e
  Post Punk e gli anni '80 che sono stati innovativi e sperimentali per la 
 musica. L'8 febbraio 2020 Silvia torna ad esibirsi a Sanremo durante il Fe
 stival in diretta streaming su Optima Magazine Tv ospite di “Attico Moni
 na” ed in piazza Bresca a Sanremo per i 25 anni del Mei.\nhttps://www.fa
 cebook.com/silvia.oddi.3\n\nTi aspettiamo senza prenotazione\ninfo messagg
 i WhatsApp
ATTACH;FMTTYPE=image/jpeg:https://lazioeventi.com/wp-content/uploads/2022/
 08/ferragosto-live-ariccia.jpg
CATEGORIES:Musica, Spettacoli e Danza nel Lazio,Sagre, Gastronomia e
 Tradizioni nel Lazio,Sport, Tempo Libero e Divertimento nel Lazio,Varie
LOCATION:Ariccia\, Comune\, Ariccia\, Roma\, Lazio\, Italia
GEO:41.72;12.671
X-APPLE-STRUCTURED-LOCATION;VALUE=URI;X-ADDRESS=Comune\, Ariccia\, Roma\, L
 azio\, Italia;X-APPLE-RADIUS=100;X-TITLE=Ariccia:geo:41.72,12.671
END:VEVENT
BEGIN:VTIMEZONE
TZID:Europe/Rome
X-LIC-LOCATION:Europe/Rome
BEGIN:DAYLIGHT
DTSTART:20220327T030000
TZOFFSETFROM:+0100
TZOFFSETTO:+0200
TZNAME:CEST
END:DAYLIGHT
END:VTIMEZONE
END:VCALENDAR