BEGIN:VCALENDAR
VERSION:2.0
PRODID:-//wp-events-plugin.com//7.2.3.1//EN
TZID:Europe/Rome
X-WR-TIMEZONE:Europe/Rome
BEGIN:VEVENT
UID:32975@lazioeventi.com
DTSTART;TZID=Europe/Rome:20221113T090000
DTEND;TZID=Europe/Rome:20221113T180000
DTSTAMP:20221109T170609Z
URL:https://lazioeventi.com/eventi/festa-dei-piccoli-comuni-del-lazio-2
SUMMARY:Festa dei piccoli comuni del Lazio - Roma - 13 Novembre 22 09:00
DESCRIPTION:Dopo il successo della scorsa edizione torna a Villa Borghese l
 'appuntamento con la festa dei piccoli comuni del Lazio.\n\nUn'opportunit
 à per promuovere il nostro Territorio\, le nostre tradizioni culturali ed
  enogastronomiche\n\nVeniteci a trovare\, domenica 13 novembre dalle 9.00 
 alle 18.00\, a Villa Borghese\, in Via delle Magnolie
ATTACH;FMTTYPE=image/jpeg:https://lazioeventi.com/wp-content/uploads/2022/
 11/festa-comuni-lazio.jpg
CATEGORIES:Sagre, Gastronomia e Tradizioni nel Lazio,Sport, Tempo Libero e
 Divertimento nel Lazio
LOCATION:Roma\, Via Leopardi\, Roma\, Roma\, Lazio\, Italia
GEO:41.8942;12.5017
X-APPLE-STRUCTURED-LOCATION;VALUE=URI;X-ADDRESS=Via Leopardi\, Roma\, Roma\
 , Lazio\, Italia;X-APPLE-RADIUS=100;X-TITLE=Roma:geo:41.8942,12.5017
END:VEVENT
BEGIN:VTIMEZONE
TZID:Europe/Rome
X-LIC-LOCATION:Europe/Rome
BEGIN:STANDARD
DTSTART:20221030T020000
TZOFFSETFROM:+0200
TZOFFSETTO:+0100
TZNAME:CET
END:STANDARD
END:VTIMEZONE
END:VCALENDAR