BEGIN:VCALENDAR
VERSION:2.0
PRODID:-//wp-events-plugin.com//7.2.3.1//EN
TZID:Europe/Rome
X-WR-TIMEZONE:Europe/Rome
BEGIN:VEVENT
UID:35348@lazioeventi.com
DTSTART;TZID=Europe/Rome:20230527T103000
DTEND;TZID=Europe/Rome:20230527T193000
DTSTAMP:20230509T200941Z
URL:https://lazioeventi.com/eventi/festa-del-bio
SUMMARY:Festa del Bio - Roma - 27 Maggio 23 10:30
DESCRIPTION:Festa del BIO: l’evento che esalta il gusto del biologico. Un
 a festa in cui il meglio del mondo del BIO si incontra per creare dibattit
 i\, show cooking e approfondimenti con esperti del settore. Un evento da v
 ivere con curiosità e voglia di scoprire tutti i sapori del biologico.\n\
 nDopo il successo della quarta edizione del 2019\, e dopo il forzato stop 
 di due anni\, la Festa del BIO è tornata con un format nuovo e tanti even
 ti tutti da vivere! \n\nIn occasione delle due tappe di Bologna e Milano a
 bbiamo avuto oltre 9.000 presenze\, tantissimi eventi e offerto migliaia d
 i degustazioni.\n\nAlla Festa del BIO\, sapere e gusto si uniscono in un e
 vento unico\, da vivere con tutta la famiglia e con gli amici. Un’occasi
 one per conoscere le eccellenze del BIO Made in Italy\, imparare e scoprir
 e tutti i segreti dei nostri chef durante gli show cooking\, assaporare le
  ricette pensate per dare ancora più gusto ai prodotti BIO\, incontrare e
 sperti del settore e imparare cosa vuol dire biologico attraverso i talk.\
 n\nAdesso ci stiamo preparando per la tappa di Roma!\n\nPrendete nota\, sa
 remo in pieno centro\, a pochi passi dalla Stazione Termini\, nella meravi
 gliosa cornice dell’Acquario Romano in Piazza Manfredo Fanti 47.\n\nNon 
 perdete quest’esplosione di sapori e saperi!
ATTACH;FMTTYPE=image/jpeg:https://lazioeventi.com/wp-content/uploads/2023/
 05/festa-del-bio.jpg
CATEGORIES:Fiere e Mercatini nel Lazio
LOCATION:Roma\, Via Leopardi\, Roma\, Roma\, Lazio\, Italia
GEO:41.8942;12.5017
X-APPLE-STRUCTURED-LOCATION;VALUE=URI;X-ADDRESS=Via Leopardi\, Roma\, Roma\
 , Lazio\, Italia;X-APPLE-RADIUS=100;X-TITLE=Roma:geo:41.8942,12.5017
END:VEVENT
BEGIN:VTIMEZONE
TZID:Europe/Rome
X-LIC-LOCATION:Europe/Rome
BEGIN:DAYLIGHT
DTSTART:20230326T030000
TZOFFSETFROM:+0100
TZOFFSETTO:+0200
TZNAME:CEST
END:DAYLIGHT
END:VTIMEZONE
END:VCALENDAR