BEGIN:VCALENDAR
VERSION:2.0
PRODID:-//wp-events-plugin.com//7.2.3.1//EN
TZID:Europe/Rome
X-WR-TIMEZONE:Europe/Rome
BEGIN:VEVENT
UID:35771@lazioeventi.com
DTSTART:20250621T190000Z
DTEND:20250622T223000Z
DTSTAMP:20250521T194132Z
URL:https://lazioeventi.com/eventi/festa-del-bombolone-e-lombrichello
SUMMARY:Festa del bombolone e lombrichello - Graffignano - 21 Giugno 25 20:
 00
DESCRIPTION:Sagra del Lombrichello dell'Antica Contrada Stigliano a Canale 
 Monterano Piazza del Campo Il Lombrichello: pasta lunga di acqua e farina 
 tipica della tradizione culinaria dell'alto Lazio era anticamente la pasta
  dei poveri. All'Amatriciana\, al Tar
ATTACH;FMTTYPE=image/jpeg:https://lazioeventi.com/wp-content/uploads/2023/
 06/festa-lombrichello.jpg
CATEGORIES:Sagre, Gastronomia e Tradizioni nel Lazio
LOCATION:Graffignano\, Comune\, Graffignano\, Viterbo\, Lazio\, Italia
GEO:42.5733;12.2043
X-APPLE-STRUCTURED-LOCATION;VALUE=URI;X-ADDRESS=Comune\, Graffignano\, Vite
 rbo\, Lazio\, Italia;X-APPLE-RADIUS=100;X-TITLE=Graffignano:geo:42.5733,12
 .2043
END:VEVENT
END:VCALENDAR