BEGIN:VCALENDAR
VERSION:2.0
PRODID:-//wp-events-plugin.com//7.2.3.1//EN
TZID:Europe/Rome
X-WR-TIMEZONE:Europe/Rome
BEGIN:VEVENT
UID:29832@lazioeventi.com
DTSTART;TZID=Europe/Rome;VALUE=DATE:20220211
DTEND;TZID=Europe/Rome;VALUE=DATE:20220214
DTSTAMP:20220208T120438Z
URL:https://lazioeventi.com/eventi/festa-del-cioccolato-artigianale-2
SUMMARY:Festa del Cioccolato Artigianale - Aprilia - 11 Febbraio 22 00:00
DESCRIPTION:La prima edizione della Festa del Cioccolato Artigianale che\, 
 come in ogni sua tappa riscuote tanto successo specialmente tra i golosi i
 ntenditori.\n\nDall'11 al 13 febbraio\, una tre giorni dedicata all’arti
 gianalità ed ai prodotti buoni di cioccolato\, senza trascurare didattica
  e intrattenimento con un occhio rivolto agli innamorati\, infatti lunedì
  14 sarà proprio la Festa di San Valentino.\n\nIl tour gastronomico delle
  Feste del Cioccolato Artigianali è l’unico che si manifesta come event
 o divulgativo e di promozione dei prodotti sani e genuini\; quindi\, non s
 olo mostra mercato ma un vero e proprio momento di aggregazione e sponsori
 zzazione del made in Italy dei prodotti artigianali dolci.\n\nGli stand de
 i Maestri Cioccolatieri con i loro gustosi e sani prodotti rigorosamente a
 rtigianali apriranno la manifestazione venerdì dalle ore 10:00 ed accogli
 eranno in piazza golosi provenienti da tutta Italia\, pronti a degustare e
  fare scorta dell’ottimo cioccolato artigianale. Tra le botteghe artigia
 ne dell'Associazione Nazionale CHOCO AMORE ci sarà anche un'eccellenza lo
 cale\, DIVINO il Cioccolato degli Dei di Valerio Esposito.\n\nAssolutament
 e da non perdere il CHOCO PLAY\, laboratori didattici per bambini sulla la
 vorazione del cioccolato\, ma anche tanti laboratori didattici per adulti 
 in chiave professionale. Tali laboratori sono prenotabili direttamente sul
  sito www.festedelcioccolato.it.\n\nInnamorati di tutte le età la kermess
 e più gustosa d’Italia sta arrivando ad Aprilia per una dolcissima ediz
 ione… ASSOLUTAMENTE DA NON PERDERE!!!!
ATTACH;FMTTYPE=image/jpeg:https://lazioeventi.com/wp-content/uploads/2022/
 02/cioccolato-aprilia.jpg
CATEGORIES:Sagre, Gastronomia e Tradizioni nel Lazio,Fiere e Mercatini nel
 Lazio
LOCATION:Aprilia\, Comune\, Aprilia\, Latina\, Lazio\, Italia
GEO:41.5937;12.6486
X-APPLE-STRUCTURED-LOCATION;VALUE=URI;X-ADDRESS=Comune\, Aprilia\, Latina\,
  Lazio\, Italia;X-APPLE-RADIUS=100;X-TITLE=Aprilia:geo:41.5937,12.6486
END:VEVENT
BEGIN:VTIMEZONE
TZID:Europe/Rome
X-LIC-LOCATION:Europe/Rome
BEGIN:STANDARD
DTSTART:20211031T020000
TZOFFSETFROM:+0200
TZOFFSETTO:+0100
TZNAME:CET
END:STANDARD
END:VTIMEZONE
END:VCALENDAR