BEGIN:VCALENDAR
VERSION:2.0
PRODID:-//wp-events-plugin.com//7.2.3.1//EN
TZID:Europe/Rome
X-WR-TIMEZONE:Europe/Rome
BEGIN:VEVENT
UID:43948@lazioeventi.com
DTSTART;TZID=Europe/Rome;VALUE=DATE:20260522
DTEND;TZID=Europe/Rome;VALUE=DATE:20260525
DTSTAMP:20260305T082428Z
URL:https://lazioeventi.com/eventi/festa-del-fungo-porcino
SUMMARY:Festa del Fungo Porcino - Canepina - 22 Maggio 26 00:00
DESCRIPTION:"A Maggio per Assaggio"\n1^ Festa del Fungo Porcino\nMaccaroni 
 e Ceciliani ai Funghi Porcini\ne altre specialità tipiche Canepinesi.\n\n
 22\, 23 e 24 Maggio 2026\nCantina di Santa Corona - Canepina (VT) Lazio\n\
 n---\nPresso: locali e spazi pubblici adiacenti alla Cantina di Santa Coro
 na Canepina VT\nOrganizzatore: Comitato Festeggiamenti di Santa Corona 202
 5-2026.\nFinalità: Valorizzazione enogastronomica dei prodotti tipici loc
 ali e promozione turistica del territorio\, del centro storico e naturalis
 tico circostante.\n---\nProgramma:\nVenerdì 22 Maggio 2026\nTardo pomerig
 gio/sera: apertura evento.\nCena: presso i locali della Cantina e adiacent
 i - “piazzetta” (con serata danzante e menù dedicato 25 euro (antipas
 to\, 1 primo\, 1 secondo\, dolcetti acqua e vino)\nIntrattenimento: Musica
  e Balli di gruppo organizzati\n\nSabato 23 Maggio 2026\nMattina: passeggi
 ate nel centro storico\, camminate nei boschi e visite guidate organizzate
  (a pagamento).\nPranzo: presso i locali della Cantina (interno) ed estern
 o (Piazzetta) menù 30 euro ( antipasto\, 2 primi\, 1 secondo\, contorno\,
  dolcetti acqua e vino)\nPomeriggio: proseguimento visite guidate centro s
 torico.\nSera (Cena): presso i locali della Cantina (interno) menù 30 eur
 o ( antipasto\, 2 primi\, 1 secondo\, contorno\, dolcetti acqua e vino)\nI
 ntrattenimento: Band / Gruppo musicale (spazi interni/ esterni alla cantin
 a).\n\nDomenica 24 Maggio 2026\nMattina: passeggiate nel centro storico\, 
 camminate nei boschi e visite guidate organizzate (a pagamento).\nPranzo: 
 presso i locali della Cantina (interno) ed esterno (Piazzetta) menù 30 eu
 ro ( antipasto\, 2 primi\, 1 secondo\, contorno\, dolcetti acqua e vino)\n
 Pomeriggio: Conclusione evento\, saluti finali e disallestimento.
ATTACH;FMTTYPE=image/jpeg:https://lazioeventi.com/wp-content/uploads/2022/
 09/Sagra-del-Fungo-Porcino.jpg
CATEGORIES:Sagre, Gastronomia e Tradizioni nel Lazio,Sport, Tempo Libero e
 Divertimento nel Lazio
LOCATION:Canepina\, Comune di Canepina\, Canepina\, Viterbo\, Lazio\, Itali
 a
GEO:42.3809;12.2335
X-APPLE-STRUCTURED-LOCATION;VALUE=URI;X-ADDRESS=Comune di Canepina\, Canepi
 na\, Viterbo\, Lazio\, Italia;X-APPLE-RADIUS=100;X-TITLE=Canepina:geo:42.3
 809,12.2335
END:VEVENT
BEGIN:VTIMEZONE
TZID:Europe/Rome
X-LIC-LOCATION:Europe/Rome
BEGIN:DAYLIGHT
DTSTART:20260329T030000
TZOFFSETFROM:+0100
TZOFFSETTO:+0200
TZNAME:CEST
END:DAYLIGHT
END:VTIMEZONE
END:VCALENDAR