BEGIN:VCALENDAR
VERSION:2.0
PRODID:-//wp-events-plugin.com//7.2.3.1//EN
TZID:Europe/Rome
X-WR-TIMEZONE:Europe/Rome
BEGIN:VEVENT
UID:31820@lazioeventi.com
DTSTART;TZID=Europe/Rome:20230812T200000
DTEND;TZID=Europe/Rome:20230812T234500
DTSTAMP:20230628T101835Z
URL:https://lazioeventi.com/eventi/festa-del-pan-a-moll
SUMMARY:Festa del "Pan a moll" - Alvito - 12 Agosto 23 20:00
DESCRIPTION:Torna uno degli eventi più caratteristici della Città di Alvi
 to\, ricordati ed apprezzati in tutta la Valle di Comino.\n\nProtagonista 
 un piatto tipico emblema della tradizione rurale e contadina\, il pane a m
 ollo: una pietanza povera dalle variegate sfumature\, che si offre a sugge
 stive preparazioni fornite dalle sapienti mani delle massaie.\n\nLe contra
 de\, organizzate in sfilata con costumi tipici ed allegorie\, si daranno a
 ppuntamento nel centro storico di Alvito.\n\nAd accompagnare la serata e s
 uggellare un binomio storico fra gastronomia e musica\, troveremo due esib
 izioni di gruppi folkloristici provenienti dalla Valle di Comino e dalla M
 acedonia.
ATTACH;FMTTYPE=image/jpeg:https://lazioeventi.com/wp-content/uploads/2022/
 08/Festa-del-Pan-A-Moll-alvito.jpg
CATEGORIES:Sagre, Gastronomia e Tradizioni nel Lazio
LOCATION:Alvito\, Comune\, Alvito\, Frosinone\, Lazio\, Italia
GEO:41.6881;13.7425
X-APPLE-STRUCTURED-LOCATION;VALUE=URI;X-ADDRESS=Comune\, Alvito\, Frosinone
 \, Lazio\, Italia;X-APPLE-RADIUS=100;X-TITLE=Alvito:geo:41.6881,13.7425
END:VEVENT
BEGIN:VTIMEZONE
TZID:Europe/Rome
X-LIC-LOCATION:Europe/Rome
BEGIN:DAYLIGHT
DTSTART:20230326T030000
TZOFFSETFROM:+0100
TZOFFSETTO:+0200
TZNAME:CEST
END:DAYLIGHT
END:VTIMEZONE
END:VCALENDAR