BEGIN:VCALENDAR
VERSION:2.0
PRODID:-//wp-events-plugin.com//7.2.3.1//EN
TZID:Europe/Rome
X-WR-TIMEZONE:Europe/Rome
BEGIN:VEVENT
UID:39443@lazioeventi.com
DTSTART;TZID=Europe/Rome:20240628T190000
DTEND;TZID=Europe/Rome:20240629T234500
DTSTAMP:20240619T142124Z
URL:https://lazioeventi.com/eventi/festa-del-panino
SUMMARY:Festa del Panino - Pico - 28 Giugno 24 19:00
DESCRIPTION:L'associazione Spirito Libero vi aspetta il 28 e 29 giugno in P
 iazza Antonino Conti per passare insieme una serata all'insegna del buon c
 ibo\, tra musica e spettacolo. \n\nIl 28 giugno ci sarà il saggio della A
 SD Fashion Dance\, mentre il 29 giugno Alberto Farina ci trascinerà nel v
 ortice della sua comicità. \n\nNon mancate!!! 
ATTACH;FMTTYPE=image/jpeg:https://lazioeventi.com/wp-content/uploads/2024/
 06/festa-panino-pico.jpg
CATEGORIES:Musica, Spettacoli e Danza nel Lazio,Sagre, Gastronomia e
 Tradizioni nel Lazio
LOCATION:Pico\, Comune\, Pico\, Frosinone\, Lazio\, Italia
GEO:41.4493;13.5523
X-APPLE-STRUCTURED-LOCATION;VALUE=URI;X-ADDRESS=Comune\, Pico\, Frosinone\,
  Lazio\, Italia;X-APPLE-RADIUS=100;X-TITLE=Pico:geo:41.4493,13.5523
END:VEVENT
BEGIN:VTIMEZONE
TZID:Europe/Rome
X-LIC-LOCATION:Europe/Rome
BEGIN:DAYLIGHT
DTSTART:20240331T030000
TZOFFSETFROM:+0100
TZOFFSETTO:+0200
TZNAME:CEST
END:DAYLIGHT
END:VTIMEZONE
END:VCALENDAR