BEGIN:VCALENDAR
VERSION:2.0
PRODID:-//wp-events-plugin.com//7.2.3.1//EN
TZID:Europe/Rome
X-WR-TIMEZONE:Europe/Rome
BEGIN:VEVENT
UID:24108@lazioeventi.com
DTSTART;VALUE=DATE:20230512
DTEND;VALUE=DATE:20230516
DTSTAMP:20230509T092805Z
URL:https://lazioeventi.com/eventi/festa-della-madonna-del-soccorso
SUMMARY:Festa della Madonna del Soccorso - Cori - 12 Maggio 23 00:00
DESCRIPTION:A Cori torna anche quest’anno\, come da tradizione\, la festa
  in onore della Madonna del Soccorso. Con un fitto calendario di festeggia
 menti civili e religiosi verrà ricordata l’apparizione della Vergine\, 
 avvenuta nel maggio 1521\, alla piccola Oliva Iannese\, che durante un vio
 lento temporale si era persa sul monte delle Ginestre.\n\nI coresi nutrono
  una profonda devozione per la Madonna del Soccorso e si recano ogni anno 
 in processione al santuario a lei dedicato\, sulla montagna che sovrasta i
 l paese\, pregando\, intonando inni e offrendole pesanti ceri.\n\nQuest'an
 no 2023\, la festa si terrà nei giorni 12\, 13\, 14 e 15 maggio.\n\n\n
ATTACH;FMTTYPE=image/jpeg:https://lazioeventi.com/wp-content/uploads/2019/
 04/festa-madonna-del-soccorso-cori-2023-1.jpg
CATEGORIES:Musica, Spettacoli e Danza nel Lazio,Sagre, Gastronomia e
 Tradizioni nel Lazio
LOCATION:Cori\, Comune\, Cori\, Latina\, Lazio\, Italia
GEO:41.643;12.913
X-APPLE-STRUCTURED-LOCATION;VALUE=URI;X-ADDRESS=Comune\, Cori\, Latina\, La
 zio\, Italia;X-APPLE-RADIUS=100;X-TITLE=Cori:geo:41.643,12.913
END:VEVENT
END:VCALENDAR