BEGIN:VCALENDAR
VERSION:2.0
PRODID:-//wp-events-plugin.com//7.2.3.1//EN
TZID:Europe/Rome
X-WR-TIMEZONE:Europe/Rome
BEGIN:VEVENT
UID:31430@lazioeventi.com
DTSTART;TZID=Europe/Rome:20220621T213000
DTEND;TZID=Europe/Rome:20220621T233000
DTSTAMP:20220620T074748Z
URL:https://lazioeventi.com/eventi/festa-della-musica-lanuvio
SUMMARY:Festa della Musica - Lanuvio - 21 Giugno 22 21:30
DESCRIPTION:PROGRAMMA XXVIII FESTA DELLA MUSICA DI LANUVIO\n\nVENERDI’ 17
  GIUGNO\nORE 21.00 P.zza S.M. Maggiore: Concerto di apertura PIJI & EMMET 
 RAY MANOUCHE ORCHESTRA\nPiji\, poliedrico cantautore romano\, in concerto 
 con la Emmet Ray Manouche Orchestra nata dall’incontro di alcuni tra i p
 rincipali esponenti italiani del jazz-manouche uniti dalla passione per il
  leggendario chitarrista Django Reinhardt e per Emmet Ray\, personaggio im
 maginario interpretato da Sean Penn nel celebre film di Woddy Allen “Acc
 ordi e disaccordi”.\n\nSABATO 18 GIUGNO\nOre 19:15 P.zza Vittimi di Bres
 cia: Esibizione del Centro Culturale Danza di Lanuvio\nOre 20:00 centro st
 orico e piazze limitrofe **PIAZZETTE IN MUSICA**\n\nDOMENICA 19 GIUGNO\nOr
 e 18:30 P.zza Vittime di Brescia: JF Band\nOre 19:20 P.zza Vittime di Bres
 cia: Dionigi Body Percussion\nOre 20:00 centro storico e piazze limitrofe 
 **PIAZZETTE IN MUSICA**\n\nMARTEDI’ 21 GIUGNO Festa della Musica Europea
 \nOre 21:30 Villa Sforza Cesarini: AB HOC ET AB HAC spettacolo teatrale di
  e con Daniel Parisi\nRitmi affabulanti\, umorismo allucinato\, trasformis
 mo\, performance sceniche e vocali. Un gioco al massacro in cui\, attraver
 so la combinazione del riso e dell’orrore\, il pubblico entrerà in un u
 niverso assurdo. Sarà inghiottito nel vortice di una loop station vocale 
 in dialogo con i personaggi che spunteranno come cellule impazzite chiamat
 e a raccontare la propria inutilità.\n\nDURANTE I GIORNI DELLA MANIFESTAZ
 IONE:\nMostra personale di pittura di Lamberto Trombetta presso RicreArti 
 – via M. A. Commodo\, 9\nEsposizione di arte figurativa targata MMA Mixe
 d Minds Art presso i locali in via Sforza Cesarini\, 5\nStudio di arti vis
 ive degli artisti Felicita Fiorini e Francesco Esposito. Pittura figurativ
 a\, fotografia creativa e disegno. La contaminazione di arti che rompe gli
  schemi.\n\nLA MUSICA CHE GIRA INTORNO – evento fotografico a cura dell
 ’Associazione RicreArte. \nLe fotografie scattate durante la Festa della
  Musica saranno esposte alla mostra che si terrà nella sede di RicreArte 
 dal 15 al 17 luglio.\n\nPunti ristoro
ATTACH;FMTTYPE=image/jpeg:https://lazioeventi.com/wp-content/uploads/2022/
 06/festa-musica-lanuvio.jpg
CATEGORIES:Musica, Spettacoli e Danza nel Lazio
LOCATION:Lanuvio\, Comune\, Lanuvio\, Roma\, Lazio\, Italia
GEO:41.6758;12.6975
X-APPLE-STRUCTURED-LOCATION;VALUE=URI;X-ADDRESS=Comune\, Lanuvio\, Roma\, L
 azio\, Italia;X-APPLE-RADIUS=100;X-TITLE=Lanuvio:geo:41.6758,12.6975
END:VEVENT
BEGIN:VTIMEZONE
TZID:Europe/Rome
X-LIC-LOCATION:Europe/Rome
BEGIN:DAYLIGHT
DTSTART:20220327T030000
TZOFFSETFROM:+0100
TZOFFSETTO:+0200
TZNAME:CEST
END:DAYLIGHT
END:VTIMEZONE
END:VCALENDAR