BEGIN:VCALENDAR
VERSION:2.0
PRODID:-//wp-events-plugin.com//7.2.3.1//EN
TZID:Europe/Rome
X-WR-TIMEZONE:Europe/Rome
BEGIN:VEVENT
UID:39251@lazioeventi.com
DTSTART;TZID=Europe/Rome:20240710T183000
DTEND;TZID=Europe/Rome:20240721T183000
DTSTAMP:20240529T082409Z
URL:https://lazioeventi.com/eventi/festa-della-pizza-e-dello-street-food
SUMMARY:Festa della Pizza e dello Street Food - Roma - 10 Luglio 24 18:30
DESCRIPTION:OSTIA ANTICA. TORNA LA FESTA DELLA PIZZA E DELLO STREET FOOD\n\
 nDopo lo straordinario successo dello scorso anno torna a Ostia Antica la 
 ‘Festa della pizza e dello Street Food’ italiano per celebrare la gran
 dissima tradizione del cibo nostrano.\n\nDal 10 al 21 luglio\, tutte le se
 re (domenica anche a pranzo) centro sportivo Aldobrandini (viale dei Romag
 noli 656) l’imbarazzo della scelta: pizze tonde di ogni tipo\, street fo
 od\, fritti di carne e pesce\, supplì\, arancini\, arrosticini e quest’
 anno anche una novità con un banco esclusivamente dedicato ai prodotti Ve
 g. Una chicca per arricchire questo percorso gastronomico: sarà presente 
 anche un ‘camioncino’ che sfornerà pasta alla amatriciana.\n\nAd acco
 mpagnare questo tripudio di sapori tanta birra artigianale a chilometro qu
 asi zero\, proveniente dalla vicina cantina di Torrimpietra. E se qualcuno
  trovasse ancora un piccolo spazio per finire con un po’ di zucchero in 
 bocca\, dolci e cornetti per tutte le esigenze. Ogni sera musica e intratt
 enimento e per i più piccoli giostre e divertimento. Anche quest’anno o
 rganizzazione affidata all’associazione Nuovo Faro APS.\n\n“Per questa
  edizione – spiega Sergio Conforzi\, patron dell’evento – abbiamo vo
 luto celebrare la grande tradizione culinaria attraverso un percorso gastr
 onomico che unisca la celebra pizza italiana allo street food italiano pi
 ù puro. Rispetto a 12 mesi fa abbiamo deciso di raddoppiare i giorni. Abb
 iamo avuto tantissime presenze\, non ce l’aspettavamo\, in questo modo d
 aremo a tutti la possibilità di assaporare i nostri prodotti”.\n\nApert
 ura cucine ore 18.30. Info e contatti: 388.9791896.
ATTACH;FMTTYPE=image/jpeg:https://lazioeventi.com/wp-content/uploads/2019/
 07/pizza-fritta.jpg
CATEGORIES:Sagre, Gastronomia e Tradizioni nel Lazio
LOCATION:Roma\, Via Leopardi\, Roma\, Roma\, Lazio\, Italia
GEO:41.8942;12.5017
X-APPLE-STRUCTURED-LOCATION;VALUE=URI;X-ADDRESS=Via Leopardi\, Roma\, Roma\
 , Lazio\, Italia;X-APPLE-RADIUS=100;X-TITLE=Roma:geo:41.8942,12.5017
END:VEVENT
BEGIN:VTIMEZONE
TZID:Europe/Rome
X-LIC-LOCATION:Europe/Rome
BEGIN:DAYLIGHT
DTSTART:20240331T030000
TZOFFSETFROM:+0100
TZOFFSETTO:+0200
TZNAME:CEST
END:DAYLIGHT
END:VTIMEZONE
END:VCALENDAR