BEGIN:VCALENDAR
VERSION:2.0
PRODID:-//wp-events-plugin.com//7.2.3.1//EN
TZID:Europe/Rome
X-WR-TIMEZONE:Europe/Rome
BEGIN:VEVENT
UID:27623@lazioeventi.com
DTSTART;TZID=Europe/Rome;VALUE=DATE:20200912
DTEND;TZID=Europe/Rome;VALUE=DATE:20200914
DTSTAMP:20200908T110129Z
URL:https://lazioeventi.com/eventi/festa-della-radica
SUMMARY:Festa della Radica - Tolfa - 12 Settembre 20 00:00
DESCRIPTION:Sarà un’edizione differente\, con molte limitazioni e tante 
 rinunce\, ma sarà un’edizione unica e straordinaria nella sua completez
 za. Sarà un’edizione speciale dalle profonde radici salde nelle nostre 
 tradizioni in cui faremo rivivere un pass
ATTACH;FMTTYPE=image/jpeg:https://lazioeventi.com/wp-content/uploads/2020/
 09/la-radica.jpg
CATEGORIES:Musica, Spettacoli e Danza nel Lazio,Sport, Tempo Libero e
 Divertimento nel Lazio
LOCATION:Tolfa\, Comune di Tolfa\, Tolfa\, Roma\, Lazio\, Italia
GEO:42.1494;11.9374
X-APPLE-STRUCTURED-LOCATION;VALUE=URI;X-ADDRESS=Comune di Tolfa\, Tolfa\, R
 oma\, Lazio\, Italia;X-APPLE-RADIUS=100;X-TITLE=Tolfa:geo:42.1494,11.9374
END:VEVENT
BEGIN:VTIMEZONE
TZID:Europe/Rome
X-LIC-LOCATION:Europe/Rome
BEGIN:DAYLIGHT
DTSTART:20200329T030000
TZOFFSETFROM:+0100
TZOFFSETTO:+0200
TZNAME:CEST
END:DAYLIGHT
END:VTIMEZONE
END:VCALENDAR