BEGIN:VCALENDAR
VERSION:2.0
PRODID:-//wp-events-plugin.com//7.2.3.1//EN
TZID:Europe/Rome
X-WR-TIMEZONE:Europe/Rome
BEGIN:VEVENT
UID:36673@lazioeventi.com
DTSTART;TZID=Europe/Rome:20250809T190000
DTEND;TZID=Europe/Rome:20250809T230000
DTSTAMP:20250803T174514Z
URL:https://lazioeventi.com/eventi/festa-della-tarita
SUMMARY:Festa della Tarita - Itri - 9 Agosto 25 19:00
DESCRIPTION:Un evento entrato ormai nella tradizione di Itri.\n\nSi festegg
 ia ogni anno nel mese di agosto da 30 anni. \nL'associazione comitato Sant
 'Angelo continua così il percorso creato dai predecessori portando avanti
  questa tradizione.\nLa Festa della Tarita è un appuntamento affermato ch
 e richiama tutti gli appassionati di musiche popolari\, degustazioni tipic
 he locali e mercatini dell'artigianato.\n\nAnimazione per bambini a cura d
 ella Polisport Itri\nEsecuzione unplugged in set acustico di "Enrico Capua
 no e Tammuriata Rock"\nDegustazione prodotti tipici Itrani e mercatini del
 l'artigianato
ATTACH;FMTTYPE=image/jpeg:https://lazioeventi.com/wp-content/uploads/2023/
 08/festa-tarita-itri.jpg
CATEGORIES:Sport, Tempo Libero e Divertimento nel Lazio,Musica, Spettacoli
 e Danza nel Lazio
LOCATION:Itri\, Piazza Umberto I\, Itri\, Latina\, Lazio\, Italia
GEO:41.290876;13.531233
X-APPLE-STRUCTURED-LOCATION;VALUE=URI;X-ADDRESS=Piazza Umberto I\, Itri\, L
 atina\, Lazio\, Italia;X-APPLE-RADIUS=100;X-TITLE=Itri:geo:41.290876,13.53
 1233
END:VEVENT
BEGIN:VTIMEZONE
TZID:Europe/Rome
X-LIC-LOCATION:Europe/Rome
BEGIN:DAYLIGHT
DTSTART:20250330T030000
TZOFFSETFROM:+0100
TZOFFSETTO:+0200
TZNAME:CEST
END:DAYLIGHT
END:VTIMEZONE
END:VCALENDAR