BEGIN:VCALENDAR
VERSION:2.0
PRODID:-//wp-events-plugin.com//7.2.3.1//EN
TZID:Europe/Rome
X-WR-TIMEZONE:Europe/Rome
BEGIN:VEVENT
UID:39778@lazioeventi.com
DTSTART;TZID=Europe/Rome;VALUE=DATE:20240912
DTEND;TZID=Europe/Rome;VALUE=DATE:20240916
DTSTAMP:20240909T203055Z
URL:https://lazioeventi.com/eventi/festa-delle-cerquette-grandi-e-sagra-de
 lla-pannocchia
SUMMARY:Festa delle Cerquette Grandi e Sagra della Pannocchia - Roma - 12 S
 ettembre 24 00:00
DESCRIPTION:Dal 12 al 15 settembre in Via Pallanzeno a Roma "Festa delle Ce
 rquette Grandi e Sagra della Pannocchia" con tanta musica\, cibo e diverti
 mento per tutti.\n\nIn allegato il programma.
ATTACH;FMTTYPE=image/jpeg:https://lazioeventi.com/wp-content/uploads/2024/
 09/6ebb5716-8f9c-4d3c-9d31-655bb89a4e44.jpg
CATEGORIES:Sagre, Gastronomia e Tradizioni nel Lazio
LOCATION:Roma\, Via Leopardi\, Roma\, Roma\, Lazio\, Italia
GEO:41.8942;12.5017
X-APPLE-STRUCTURED-LOCATION;VALUE=URI;X-ADDRESS=Via Leopardi\, Roma\, Roma\
 , Lazio\, Italia;X-APPLE-RADIUS=100;X-TITLE=Roma:geo:41.8942,12.5017
END:VEVENT
BEGIN:VTIMEZONE
TZID:Europe/Rome
X-LIC-LOCATION:Europe/Rome
BEGIN:DAYLIGHT
DTSTART:20240331T030000
TZOFFSETFROM:+0100
TZOFFSETTO:+0200
TZNAME:CEST
END:DAYLIGHT
END:VTIMEZONE
END:VCALENDAR