BEGIN:VCALENDAR
VERSION:2.0
PRODID:-//wp-events-plugin.com//7.2.3.1//EN
TZID:Europe/Rome
X-WR-TIMEZONE:Europe/Rome
BEGIN:VEVENT
UID:30461@lazioeventi.com
DTSTART;TZID=Europe/Rome;VALUE=DATE:20250430
DTEND;TZID=Europe/Rome;VALUE=DATE:20250502
DTSTAMP:20250422T064245Z
URL:https://lazioeventi.com/eventi/festa-delle-rose-e-della-cicuta
SUMMARY:Festa delle Rose e della Cicuta - Riano - 30 Aprile 25 00:00
DESCRIPTION:È finalmente arrivato il momento più atteso dell’anno!! Sia
 mo pronti per annunciare la nuova edizione della “Festa delle Rose e del
 la Cicuta”\n\nNella campagna nei pressi dell’antico borgo di Riano si 
 celebra una nuova edizione dell’annuale festa rievocativa di un’antica
  tradizione locale.\n\nI giovani rianesi\, nella notte tra il 30 di aprile
  ed il primo di maggio\, erano soliti far dono di rose alle proprie spasim
 anti o\, alle più sfuggenti\, di bouquet di cicuta\, pianta velenifera la
  quale presenta un odore nauseabondo\, nota per essere uno degli ingredien
 ti della mistura di veleni bevuta dal Socrate condannato a morte.\n\nLa ma
 nifestazione si svolgerà in località Fontanalarga: due giorni all’ins
 egna della condivisione e della familiarità.\n\nCom’è ormai una consol
 idata tradizione\, non mancherà il buon cibo tramite la presenza di stand
  gastronomici\, ma neanche la musica con concerti dal vivo\, show e danze\
 , o il bazar corredato di prodotti artigianali dal territorio\, o ancora l
 ’attesissimo concorso poetico che varrà una rosa alla donna musa del mi
 glior componimento.\n\nAltra protagonista sarà l’attività fisica con i
  bambini\, tornei di pallavolo e prove di tiro con l’arco.\n\nE per conc
 ludere uno spettacolo di fuoco\, falò e giochi pirotecnici a dare il salu
 to agli avventori semplici e a quelli più caparbi pernottanti nelle tende
 .\n\nIl 30 aprile e 1 maggio non prendere impegni! Ti aspettiamo per goder
 ci due giorni in compagnia e divertimento!\n\nLa festa si svolgerà a Rian
 o\, Fontanalarga. Qui potrai trovare\n- Cibo\n- Bevande\n- Musica\n- Intra
 ttenimento\n- Attività\n- Concorsi a premi\n\nTi aspettiamo!!!
ATTACH;FMTTYPE=image/jpeg:https://lazioeventi.com/wp-content/uploads/2023/
 04/feste-delle-rose-riano.jpg
CATEGORIES:Fiere e Mercatini nel Lazio,Musica, Spettacoli e Danza nel
 Lazio,Sagre, Gastronomia e Tradizioni nel Lazio,Sport, Tempo Libero e
 Divertimento nel Lazio
LOCATION:Riano\, Comune\, Riano\, Roma\, Lazio\, Italia
GEO:42.0911;12.5236
X-APPLE-STRUCTURED-LOCATION;VALUE=URI;X-ADDRESS=Comune\, Riano\, Roma\, Laz
 io\, Italia;X-APPLE-RADIUS=100;X-TITLE=Riano:geo:42.0911,12.5236
END:VEVENT
BEGIN:VTIMEZONE
TZID:Europe/Rome
X-LIC-LOCATION:Europe/Rome
BEGIN:DAYLIGHT
DTSTART:20250330T030000
TZOFFSETFROM:+0100
TZOFFSETTO:+0200
TZNAME:CEST
END:DAYLIGHT
END:VTIMEZONE
END:VCALENDAR