BEGIN:VCALENDAR
VERSION:2.0
PRODID:-//wp-events-plugin.com//7.2.3.1//EN
TZID:Europe/Rome
X-WR-TIMEZONE:Europe/Rome
BEGIN:VEVENT
UID:32711@lazioeventi.com
DTSTART;TZID=Europe/Rome;VALUE=DATE:20221022
DTEND;TZID=Europe/Rome;VALUE=DATE:20221024
DTSTAMP:20221017T084437Z
URL:https://lazioeventi.com/eventi/festa-dellolio-priverno-fossanova
SUMMARY:Festa dell’Olio - Priverno - 22 Ottobre 22 00:00
DESCRIPTION:Il 22 e 23 Ottobre 2022 presso l’Abbazia di Fossanova a Prive
 rno appuntamento con l’evento "La Festa dell’Olio\, dalla terra alla m
 ensa" con mostra mercato\, stand gastronomici\, degustazioni\, arti di str
 ada\, rievocazioni storiche.\n\nConnubio interessante\, che vede coinvolti
  diversi soggetti pubblici e privati accomunati da un unico obiettivo: Pro
 muovere il territorio Laziale attraverso la conoscenza della Storia\, dell
 e Tradizioni \, dei prodotti enogastronomici con particolare attenzione al
 la produzione dell'olio sin dai tempi più antichi. \n\nPer gli aspetti sp
 ecifici legati alle aziende produttrici di olio grande collaborazione dell
 a CAPOL il cui Presidente Luigi Centauri si è reso sin da subito disponib
 ile insieme al suo collaboratore Tommaso Iacoacci.\n\nPrevisti mini corsi 
 per i turisti come assaggiatori\, a cura della stessa CAPOL.\n\n\n
ATTACH;FMTTYPE=image/jpeg:https://lazioeventi.com/wp-content/uploads/2022/
 10/festa_olio_fossanova2022.jpg
CATEGORIES:Sagre, Gastronomia e Tradizioni nel Lazio,Arte e Cultura nel
 Lazio
LOCATION:Priverno\, Comune di Priverno\, Priverno\, Latina\, Lazio\, Italia
GEO:41.4734;13.1817
X-APPLE-STRUCTURED-LOCATION;VALUE=URI;X-ADDRESS=Comune di Priverno\, Priver
 no\, Latina\, Lazio\, Italia;X-APPLE-RADIUS=100;X-TITLE=Priverno:geo:41.47
 34,13.1817
END:VEVENT
BEGIN:VTIMEZONE
TZID:Europe/Rome
X-LIC-LOCATION:Europe/Rome
BEGIN:DAYLIGHT
DTSTART:20220327T030000
TZOFFSETFROM:+0100
TZOFFSETTO:+0200
TZNAME:CEST
END:DAYLIGHT
END:VTIMEZONE
END:VCALENDAR