BEGIN:VCALENDAR
VERSION:2.0
PRODID:-//wp-events-plugin.com//7.2.3.1//EN
TZID:Europe/Rome
X-WR-TIMEZONE:Europe/Rome
BEGIN:VEVENT
UID:40767@lazioeventi.com
DTSTART;TZID=Europe/Rome:20250301T160000
DTEND;TZID=Europe/Rome:20250301T200000
DTSTAMP:20250217T075228Z
URL:https://lazioeventi.com/eventi/festa-di-carnevale
SUMMARY:Festa di Carnevale - Roma - 1 Marzo 25 16:00
DESCRIPTION:Festa di Carnevale organizzata dalla Fondazione l'Arcobaleno di
  Marika per grandi e piccini\, l'evento si svolgere in un'armonia piena di
  laboratori \, giochi\, Karaoke un ricco buffet e per finire sfilata e pre
 miazione della maschera più bella. I fondi raccolti verranno destinati a 
 progetti a sostegno dei minori in difficoltà appartenenti a famiglie con 
 disagio socio economico.\n\nper info e prenotazioni: Raffaella 3345855019
ATTACH;FMTTYPE=image/jpeg:https://lazioeventi.com/wp-content/uploads/2025/
 02/loc-carnevale-ultima.jpg
CATEGORIES:Musica, Spettacoli e Danza nel Lazio
LOCATION:Roma\, Via Leopardi\, Roma\, Roma\, Lazio\, Italia
GEO:41.8942;12.5017
X-APPLE-STRUCTURED-LOCATION;VALUE=URI;X-ADDRESS=Via Leopardi\, Roma\, Roma\
 , Lazio\, Italia;X-APPLE-RADIUS=100;X-TITLE=Roma:geo:41.8942,12.5017
END:VEVENT
BEGIN:VTIMEZONE
TZID:Europe/Rome
X-LIC-LOCATION:Europe/Rome
BEGIN:STANDARD
DTSTART:20241027T020000
TZOFFSETFROM:+0200
TZOFFSETTO:+0100
TZNAME:CET
END:STANDARD
END:VTIMEZONE
END:VCALENDAR