BEGIN:VCALENDAR
VERSION:2.0
PRODID:-//wp-events-plugin.com//7.2.3.1//EN
TZID:Europe/Rome
X-WR-TIMEZONE:Europe/Rome
BEGIN:VEVENT
UID:35624@lazioeventi.com
DTSTART;TZID=Europe/Rome:20230610T160000
DTEND;TZID=Europe/Rome:20230610T190000
DTSTAMP:20230529T124221Z
URL:https://lazioeventi.com/eventi/festa-di-fine-scuola
SUMMARY:Festa di fine scuola - Roma - 10 Giugno 23 16:00
DESCRIPTION:Vi aspettiamo Sabato 10 Giugno 2023 dalle 16:00 alle 19:00\, ne
 l nostro punto vendita di Ardeatina (Via Vittore Ghiliani 40 uscita 24 del
  GRA)\, per festeggiare insieme la fine delle scuole.\n\nSarà un pomerigg
 io all'insegna del divertimento!\n\nCi sarà musica\, animazione per bambi
 ni e soprattutto GONFIABILI GIGANTI!\n\nMega scivoli\, percorsi west e gio
 chi sportivi\, non mancate!\n\nEntrata gratuita\nParcheggio ampio e gratui
 to
ATTACH;FMTTYPE=image/jpeg:https://lazioeventi.com/wp-content/uploads/2023/
 05/5-giugno.jpg
CATEGORIES:Sport, Tempo Libero e Divertimento nel Lazio
LOCATION:Roma\, Via Leopardi\, Roma\, Roma\, Lazio\, Italia
GEO:41.8942;12.5017
X-APPLE-STRUCTURED-LOCATION;VALUE=URI;X-ADDRESS=Via Leopardi\, Roma\, Roma\
 , Lazio\, Italia;X-APPLE-RADIUS=100;X-TITLE=Roma:geo:41.8942,12.5017
END:VEVENT
BEGIN:VTIMEZONE
TZID:Europe/Rome
X-LIC-LOCATION:Europe/Rome
BEGIN:DAYLIGHT
DTSTART:20230326T030000
TZOFFSETFROM:+0100
TZOFFSETTO:+0200
TZNAME:CEST
END:DAYLIGHT
END:VTIMEZONE
END:VCALENDAR