BEGIN:VCALENDAR
VERSION:2.0
PRODID:-//wp-events-plugin.com//7.2.3.1//EN
TZID:Europe/Rome
X-WR-TIMEZONE:Europe/Rome
BEGIN:VEVENT
UID:40361@lazioeventi.com
DTSTART;TZID=Europe/Rome:20241208T110000
DTEND;TZID=Europe/Rome:20241208T140000
DTSTAMP:20241204T083808Z
URL:https://lazioeventi.com/eventi/festa-di-natale-grottaferrata
SUMMARY:Festa di Natale - Grottaferrata - 8 Dicembre 24 11:00
DESCRIPTION:Per sensibilizzare la cittadinanza sul tema dell’abbandono e 
 dell’adozione\, la Fondazione Cave Canem insieme alla Pro Loco di Grotta
 ferrata\, con il patrocinio del Comune di Grottaferrata\, realizzerà l’
 8 dicembre presso il Parco Traiano un evento natalizio speciale a favore d
 ei cani e delle famiglie di Grottaferrata.\n\nTre attività imperdibili pe
 r grandi e piccoli\n\nL’evento prevede 3 punti di interesse:\n\nSportell
 o adozioni.\nAlcuni dei cani senza famiglia ospitati presso il canile Vall
 e Grande presenzieranno all’evento e verranno presentati ai cittadini e 
 potenziali adottanti\;\n\nShooting con Babbo Natale e consegna della lette
 rina.\nUn educatore cinofilo della Fondazione Cave Canem travestito da Bab
 bo Natale riceverà le letterine dai cani accompagnati dalle proprie famig
 lie e sarà disponibile a scattare una foto cane & compagno/a umano/a che 
 verrà trasformata in cartolina natalizia digitale e poi inviata via mail 
 dalla Segreteria della Fondazione ai partecipanti.\n\nLaboratorio di Fast 
 Art ispirato a Nessuno Escluso – per persone di tutte le età.\nPer part
 ecipare allo shooting e/o al laboratorio\, basterà inviare una mail a: in
 fo@fondazionecavecanem.org con oggetto “prenotazione evento 8.12.24_Ness
 uno Escluso Grottaferrata Babbo Natale” e indicare il nome del cane\, il
  nome e il cognome delle persone che parteciperanno.\n\nFreetime Frascati\
 nLa campagna “Nessuno Escluso” e il protagonista Borg\nUna collaborazi
 one nata da una campagna di sensibilizzazione promossa dalla Fondazione Ca
 ve Canem con protagonista Borg\, un cane senza famiglia di Grottaferrata.\
 n\nLa campagna\, che vede un video emozionale\, è dedicata al programma 
 “Nessuno Escluso”\, progetto che punta a favorire le adozioni dei cani
  meno fortunati e a sostenere le Amministrazioni comunali nel reinserire q
 uesti animali in famiglie accoglienti.\n\nA dare l’annuncio è stata la 
 cittadina delegata al Benessere degli Animali del Comune di Grottaferrata 
 Marina Scopesi\, che ha espresso grande soddisfazione per il coinvolgiment
 o di Borg in questa importante iniziativa.
ATTACH;FMTTYPE=image/jpeg:https://lazioeventi.com/wp-content/uploads/2024/
 12/Festa-di-Natale-Grottaferrata-848x1200-1.jpg
CATEGORIES:Varie
LOCATION:Grottaferrata\, Comune\, Grottaferrata\, Roma\, Lazio\, Italia
GEO:41.7916;12.6667
X-APPLE-STRUCTURED-LOCATION;VALUE=URI;X-ADDRESS=Comune\, Grottaferrata\, Ro
 ma\, Lazio\, Italia;X-APPLE-RADIUS=100;X-TITLE=Grottaferrata:geo:41.7916,1
 2.6667
END:VEVENT
BEGIN:VTIMEZONE
TZID:Europe/Rome
X-LIC-LOCATION:Europe/Rome
BEGIN:STANDARD
DTSTART:20241027T020000
TZOFFSETFROM:+0200
TZOFFSETTO:+0100
TZNAME:CET
END:STANDARD
END:VTIMEZONE
END:VCALENDAR