BEGIN:VCALENDAR
VERSION:2.0
PRODID:-//wp-events-plugin.com//7.2.3.1//EN
TZID:Europe/Rome
X-WR-TIMEZONE:Europe/Rome
BEGIN:VEVENT
UID:35692@lazioeventi.com
DTSTART;TZID=Europe/Rome;VALUE=DATE:20230608
DTEND;TZID=Europe/Rome;VALUE=DATE:20230612
DTSTAMP:20230601T124630Z
URL:https://lazioeventi.com/eventi/festa-di-s-gemma-2023
SUMMARY:Festa di S. Gemma 2023 - Roma - 8 Giugno 23 00:00
DESCRIPTION:La Parrocchia di Santa Rufina e Seconda organizza quattro giorn
 i di festeggiamenti in onore di Santa Gemma\, in cui si susseguiranno cele
 brazioni sacre\, e eventi più laici\, con musica\, spettacoli\, stand\, g
 iostre e tanta gastronomia.
ATTACH;FMTTYPE=image/jpeg:https://lazioeventi.com/wp-content/uploads/2023/
 05/manifesto-2023-01-1434x2048-1.jpg
CATEGORIES:Sagre, Gastronomia e Tradizioni nel Lazio,Varie
LOCATION:Roma\, Via Leopardi\, Roma\, Roma\, Lazio\, Italia
GEO:41.8942;12.5017
X-APPLE-STRUCTURED-LOCATION;VALUE=URI;X-ADDRESS=Via Leopardi\, Roma\, Roma\
 , Lazio\, Italia;X-APPLE-RADIUS=100;X-TITLE=Roma:geo:41.8942,12.5017
END:VEVENT
BEGIN:VTIMEZONE
TZID:Europe/Rome
X-LIC-LOCATION:Europe/Rome
BEGIN:DAYLIGHT
DTSTART:20230326T030000
TZOFFSETFROM:+0100
TZOFFSETTO:+0200
TZNAME:CEST
END:DAYLIGHT
END:VTIMEZONE
END:VCALENDAR