BEGIN:VCALENDAR
VERSION:2.0
PRODID:-//wp-events-plugin.com//7.2.3.1//EN
TZID:Europe/Rome
X-WR-TIMEZONE:Europe/Rome
BEGIN:VEVENT
UID:35922@lazioeventi.com
DTSTART;TZID=Europe/Rome;VALUE=DATE:20230616
DTEND;TZID=Europe/Rome;VALUE=DATE:20230619
DTSTAMP:20230614T131006Z
URL:https://lazioeventi.com/eventi/festa-di-san-vito-martire
SUMMARY:Festa di San Vito Martire - San Vito Romano - 16 Giugno 23 00:00
DESCRIPTION:Nel primo weekend di giugno San Vito Romano festeggia il suo sa
 nto\, evento che da’ il via al calendario degli eventi estivi. \n\nL’a
 ppuntamento è per sabato e domenica con un calendario ricco di appuntamen
 ti dedicato a bambini e adulti.\n\nSi mangia\, si canta\, e si balla! E a 
 grande richiesta torna la tombola.\n\nSarà un’occasione per assistere d
 a vicino alla preparazione dell’infiorata\, tradizione secolare del borg
 o prenestino.\n\nDa non perdere il concerto con aperitivo della Banda di S
 an Vito in ricordo del caro amico Marco.
ATTACH;FMTTYPE=image/jpeg:https://lazioeventi.com/wp-content/uploads/2023/
 06/san-vito-romano.jpg
CATEGORIES:Sagre, Gastronomia e Tradizioni nel Lazio,Musica, Spettacoli e
 Danza nel Lazio,Sport, Tempo Libero e Divertimento nel Lazio
LOCATION:San Vito Romano\, Comune\, San Vito Romano\, Roma\, Lazio\, Italia
GEO:41.8827;12.982
X-APPLE-STRUCTURED-LOCATION;VALUE=URI;X-ADDRESS=Comune\, San Vito Romano\, 
 Roma\, Lazio\, Italia;X-APPLE-RADIUS=100;X-TITLE=San Vito Romano:geo:41.88
 27,12.982
END:VEVENT
BEGIN:VTIMEZONE
TZID:Europe/Rome
X-LIC-LOCATION:Europe/Rome
BEGIN:DAYLIGHT
DTSTART:20230326T030000
TZOFFSETFROM:+0100
TZOFFSETTO:+0200
TZNAME:CEST
END:DAYLIGHT
END:VTIMEZONE
END:VCALENDAR