BEGIN:VCALENDAR
VERSION:2.0
PRODID:-//wp-events-plugin.com//7.2.3.1//EN
TZID:Europe/Rome
X-WR-TIMEZONE:Europe/Rome
BEGIN:VEVENT
UID:26074@lazioeventi.com
DTSTART;VALUE=DATE:20230122
DTEND;VALUE=DATE:20230123
DTSTAMP:20230111T113229Z
URL:https://lazioeventi.com/eventi/festa-di-santantonio-abate-sacrofano
SUMMARY:Festa di Sant'Antonio Abate - Sacrofano - 22 Gennaio 23 00:00
DESCRIPTION:Fine settimana dedicato ai festeggiamenti in onore di S. Antoni
 o Abate.\n\nCome di consueto\, le giornate saranno caratterizzate dall'acc
 ensione del fuoco\, la fiaccolata a cavallo e la benedizione degli animali
 .\n\nNon mancate con i vostri animali!\n\nSulla locandina trovate info e o
 rari.
ATTACH;FMTTYPE=image/jpeg:https://lazioeventi.com/wp-content/uploads/2020/
 01/santantonio-abate-1.jpg
CATEGORIES:Sagre, Gastronomia e Tradizioni nel Lazio
LOCATION:Sacrofano\, Comune di Sacrofano\, Sacrofano\, Roma\, Lazio\, Itali
 a
GEO:42.1061;12.4476
X-APPLE-STRUCTURED-LOCATION;VALUE=URI;X-ADDRESS=Comune di Sacrofano\, Sacro
 fano\, Roma\, Lazio\, Italia;X-APPLE-RADIUS=100;X-TITLE=Sacrofano:geo:42.1
 061,12.4476
END:VEVENT
END:VCALENDAR