BEGIN:VCALENDAR
VERSION:2.0
PRODID:-//wp-events-plugin.com//7.2.3.1//EN
TZID:Europe/Rome
X-WR-TIMEZONE:Europe/Rome
BEGIN:VEVENT
UID:37664@lazioeventi.com
DTSTART;TZID=Europe/Rome:20231112T103000
DTEND;TZID=Europe/Rome:20231112T133000
DTSTAMP:20231106T162311Z
URL:https://lazioeventi.com/eventi/festa-gonfiabili-sportivi
SUMMARY:Festa Gonfiabili Sportivi - Roma - 12 Novembre 23 10:30
DESCRIPTION:Iniziano le Magiche Domeniche di Rocco Toys!\nOgni domenica ma
 ttina ci divertiremo insieme con musica\, animazione\, gonfiabili e feste 
 a tema!\nQuesta domenica 12 novembre 2023 inizieremo con una festa a tema 
 sport: vi aspettiamo con l'animazione e con i nostri fantastici gonfiabili
  sportivi!\n\nVia Vittore Ghiliani 40\, uscita 24 (Ardeatina) del Grande R
 accordo Anulare\nDomenica 12 novembre 2023\nDalle 10:30 alle 13:30\nGonfia
 bili sportivi: basket\, calcio\, toro meccanico e acchiappa la talpa\nBaby
  Dance\nTatuaggi per Bimbi\nGiochi dinamici\nSpettacolo del teatrino\nScul
 ture di Palloncini\nSnack\nEntrata gratuita\nParcheggio ampio e gratuito\n
 \nNon mancate!
ATTACH;FMTTYPE=image/jpeg:https://lazioeventi.com/wp-content/uploads/2023/
 11/6-novembre.jpg
CATEGORIES:Sport, Tempo Libero e Divertimento nel Lazio,Varie
LOCATION:Roma\, Via Leopardi\, Roma\, Roma\, Lazio\, Italia
GEO:41.8942;12.5017
X-APPLE-STRUCTURED-LOCATION;VALUE=URI;X-ADDRESS=Via Leopardi\, Roma\, Roma\
 , Lazio\, Italia;X-APPLE-RADIUS=100;X-TITLE=Roma:geo:41.8942,12.5017
END:VEVENT
BEGIN:VTIMEZONE
TZID:Europe/Rome
X-LIC-LOCATION:Europe/Rome
BEGIN:STANDARD
DTSTART:20231029T020000
TZOFFSETFROM:+0200
TZOFFSETTO:+0100
TZNAME:CET
END:STANDARD
END:VTIMEZONE
END:VCALENDAR