BEGIN:VCALENDAR
VERSION:2.0
PRODID:-//wp-events-plugin.com//7.2.3.1//EN
TZID:Europe/Rome
X-WR-TIMEZONE:Europe/Rome
BEGIN:VEVENT
UID:37436@lazioeventi.com
DTSTART;TZID=Europe/Rome:20231028T110000
DTEND;TZID=Europe/Rome:20231028T130000
DTSTAMP:20231016T123230Z
URL:https://lazioeventi.com/eventi/festa-halloween-rocco-toys
SUMMARY:Festa di Halloween Rocco Toys - Roma - 28 Ottobre 23 11:00
DESCRIPTION:Inaugurazione sala feste per bambini\nFesta in maschera a tema 
 Halloween\nVia Vittore Ghiliani 40\, uscita 24 del GRA\nSabato 28 ottobre 
 2023\nDalle 11:00 alle 13:00 animazione\n\nGonfiabili giganti dalle 11:00 
 alle 19:00\nSculture di Palloncini\nBaby Dance\nTrucco per Bimbi\nGiochi d
 inamici\nSpettacolo del teatrino\nEntrata gratuita\nAmpio parcheggio gratu
 ito
ATTACH;FMTTYPE=image/jpeg:https://lazioeventi.com/wp-content/uploads/2023/
 10/18-ottobre-2.jpg
CATEGORIES:Sport, Tempo Libero e Divertimento nel Lazio,Varie
LOCATION:Roma\, Via Leopardi\, Roma\, Roma\, Lazio\, Italia
GEO:41.8942;12.5017
X-APPLE-STRUCTURED-LOCATION;VALUE=URI;X-ADDRESS=Via Leopardi\, Roma\, Roma\
 , Lazio\, Italia;X-APPLE-RADIUS=100;X-TITLE=Roma:geo:41.8942,12.5017
END:VEVENT
BEGIN:VTIMEZONE
TZID:Europe/Rome
X-LIC-LOCATION:Europe/Rome
BEGIN:DAYLIGHT
DTSTART:20230326T030000
TZOFFSETFROM:+0100
TZOFFSETTO:+0200
TZNAME:CEST
END:DAYLIGHT
END:VTIMEZONE
END:VCALENDAR