BEGIN:VCALENDAR
VERSION:2.0
PRODID:-//wp-events-plugin.com//7.2.3.1//EN
TZID:Europe/Rome
X-WR-TIMEZONE:Europe/Rome
BEGIN:VEVENT
UID:37203@lazioeventi.com
DTSTART;TZID=Europe/Rome;VALUE=DATE:20230929
DTEND;TZID=Europe/Rome;VALUE=DATE:20231002
DTSTAMP:20230925T091116Z
URL:https://lazioeventi.com/eventi/festa-nazionale-del-plein-air-a-privern
 o
SUMMARY:Festa Nazionale del Plein Air a Priverno - Priverno - 29 Settembre 
 23 00:00
DESCRIPTION:Il Comune di Priverno accoglie i turisti camperisti e ospita la
  Festa Nazionale del Plein Air\, l’evento promosso dall'omonima rivista 
 e dall'Associazione dei Paesi Bandiere Arancioni\, dedicato al turismo all
 'aria aperta\, che si svolgerà nelle giornate 29\, 30 settembre e 1° ott
 obre.\n\nIl programma prevede\, dopo l'arrivo dei camper nell’area sosta
  attrezzata del parcheggio comunale di via dei Caduti di via Fani (zona Sa
 n Lorenzo centro urbano)\,\nvenerdì 29 settembre\nRitrovo alle ore 18\,00
 \, presso il Museo Archeologico di Priverno per i Saluti Istituzionali\, l
 a consegna del materiale informativo sulla città e la visita del Museo.\n
 Sabato 30 settembre\nalle ore 10\,00 visita libera del Borgo di Fossanova\
 , dell’Abbazia cistercense e del Museo Medievale\, con possibilità di p
 renotare una visita a pagamento telefonando ai numeri 3472330723 – 34918
 14504.\n\nAlle ore 15.00\, con raduno in Piazza del Comune\, visita libera
  del Museo della Matematica\, del Duomo di Santa Maria Annunziata dove è 
 conservata la reliquia di San Tommaso D’Aquino\, della Chiesa di S. Giov
 anni Evangelista ed il ciclo di affreschi dedicati a Santa Caterina d’Al
 essandria\, Madonna col bambino e Santo Vescovo\, dell’Auditorium di San
 ta Chiara e della Casina Medievale.\n\nAlle ore 17\,00\, il divertente lab
 oratorio “Racconti Mitici”\, intratterrà i più piccoli\, presso il M
 useo Archeologico di Priverno in Piazza Giovanni XXIII.\nDomenica 1 ottobr
 e\nAlle ore 09\,00 \, in località Fontana Vecchia\, inaugurazione della n
 uova area mercatale della tradizionale Fiera Nostra\, fra esposizione e ve
 ndita di prodotti di artigianato\, tipicità culinarie\, attrazioni artist
 iche\, escursioni\, sketch di teatro dialettale e musica popolare.\n\nPer 
 partecipare si consiglia di telefonare al numero 0773-912206 o inviare una
  mail all’indirizzo info@comune.priverno.latina.it.\n\nn.b Gli ingressi 
 ai musei sono gratuiti\, le visite guidate e il laboratorio a pagamento so
 lo su prenotazione.\n\nPer la sosta camper non è prevista la prenotazione
 .
ATTACH;FMTTYPE=image/jpeg:https://lazioeventi.com/wp-content/uploads/2023/
 09/plein-air-2023-locandina.jpg
CATEGORIES:Sport, Tempo Libero e Divertimento nel Lazio
LOCATION:Priverno\, Comune di Priverno\, Priverno\, Latina\, Lazio\, Italia
GEO:41.4734;13.1817
X-APPLE-STRUCTURED-LOCATION;VALUE=URI;X-ADDRESS=Comune di Priverno\, Priver
 no\, Latina\, Lazio\, Italia;X-APPLE-RADIUS=100;X-TITLE=Priverno:geo:41.47
 34,13.1817
END:VEVENT
BEGIN:VTIMEZONE
TZID:Europe/Rome
X-LIC-LOCATION:Europe/Rome
BEGIN:DAYLIGHT
DTSTART:20230326T030000
TZOFFSETFROM:+0100
TZOFFSETTO:+0200
TZNAME:CEST
END:DAYLIGHT
END:VTIMEZONE
END:VCALENDAR