BEGIN:VCALENDAR
VERSION:2.0
PRODID:-//wp-events-plugin.com//7.2.3.1//EN
TZID:Europe/Rome
X-WR-TIMEZONE:Europe/Rome
BEGIN:VEVENT
UID:41350@lazioeventi.com
DTSTART;TZID=Europe/Rome;VALUE=DATE:20250508
DTEND;TZID=Europe/Rome;VALUE=DATE:20250512
DTSTAMP:20250428T155604Z
URL:https://lazioeventi.com/eventi/festa-patrona-di-tarquinia
SUMMARY:Festa Patrona di Tarquinia - Tarquinia - 8 Maggio 25 00:00
DESCRIPTION:Dall'8 all'11 Maggio il centro storico di Tarquinia sarà in fe
 sta per le celebrazioni in onore della Santa Patrona.\n\n4 giorni all'inse
 gna della Fede\, ma anche della celebrazione dello spirito di comunità e 
 di aggregazione e dello svago.\n\nE visto che è importante partecipare tu
 tti per rendere questa bella festa sempre più sentita e grande\, c'è anc
 he un incentivo in più: il programma ufficiale sarà arricchito da tante 
 sorprese che saranno svelate man mano...\n\nEVVIVA LA NOSTRA PATRONA! EVVI
 VA TARQUINIA!
ATTACH;FMTTYPE=image/jpeg:https://lazioeventi.com/wp-content/uploads/2025/
 04/sapori-tarquinia.jpg
CATEGORIES:Sagre, Gastronomia e Tradizioni nel Lazio,Varie
LOCATION:Tarquinia\, Comune\, Tarquinia\, Viterbo\, Lazio\, Italia
GEO:42.2546;11.7584
X-APPLE-STRUCTURED-LOCATION;VALUE=URI;X-ADDRESS=Comune\, Tarquinia\, Viterb
 o\, Lazio\, Italia;X-APPLE-RADIUS=100;X-TITLE=Tarquinia:geo:42.2546,11.758
 4
END:VEVENT
BEGIN:VTIMEZONE
TZID:Europe/Rome
X-LIC-LOCATION:Europe/Rome
BEGIN:DAYLIGHT
DTSTART:20250330T030000
TZOFFSETFROM:+0100
TZOFFSETTO:+0200
TZNAME:CEST
END:DAYLIGHT
END:VTIMEZONE
END:VCALENDAR