BEGIN:VCALENDAR
VERSION:2.0
PRODID:-//wp-events-plugin.com//7.2.3.1//EN
TZID:Europe/Rome
X-WR-TIMEZONE:Europe/Rome
BEGIN:VEVENT
UID:42281@lazioeventi.com
DTSTART;TZID=Europe/Rome:20250902T190000
DTEND;TZID=Europe/Rome:20250907T234500
DTSTAMP:20250818T181205Z
URL:https://lazioeventi.com/eventi/festa-patronale-santisidoro-sabaudia
SUMMARY:Festa Patronale Sant'Isidoro - Sabaudia - Sabaudia - 2 Settembre 25
  19:00
DESCRIPTION:57ª Festa Patronale di Sant’Isidoro – Sabaudia\, 2-7 sette
 mbre 2025\n\nIl Comitato per i Festeggiamenti di Sant’Isidoro\, in colla
 borazione con l’APS ASD Circolo Country Sant’Isidoro e con il patrocin
 io del Comune di Sabaudia\, organizza la 57ª edizione della Festa Patrona
 le di Sant’Isidoro\, in programma dal 2 al 7 settembre 2025 presso la fr
 azione di Sant’Isidoro.\n\nUn traguardo importante che testimonia la vit
 alità di una tradizione profondamente radicata nel territorio e che\, dop
 o oltre mezzo secolo\, mantiene immutato lo spirito originario di comunit
 à\, solidarietà e partecipazione.\n\nLa Festa di Sant’Isidoro si contr
 addistingue per la dedizione e l’esperienza dello storico comitato organ
 izzatore\, erede dei padri fondatori\, oggi affiancato da un sempre cresce
 nte gruppo di giovani volontari che con entusiasmo contribuisce al rinnova
 mento e alla continuità della manifestazione. Proprio grazie al loro impe
 gno\, quest’anno farà ritorno – dopo sei anni di attesa – la storic
 a competizione dei “Giochi sotto la guazza”\, uno degli appuntamenti p
 iù amati e identitari della festa.\n\nProgramma\n\n 	Martedì 2 settembre
  – Ore 20:00: 20° Memorial Alessandro Danese.\n 	Mercoledì 3 settembre
  – Ore 20:30: Santa Messa in suffragio dei defunti della zona.\n 	Gioved
 ì 4 settembre – Ore 20:30: Torneo di Briscola e apertura stand gastrono
 mici con piatti tipici.\n 	Venerdì 5 settembre – Dalle 20:00: Serata ga
 stronomica con specialità locali\; ore 20:30: finale del torneo di brisco
 la e spettacolo per bambini Sant’Isidoroland.\n 	Sabato 6 settembre – 
 Ore 19:00: Stand gastronomico\; ore 21:00: 13ª edizione dei Giochi sotto 
 la guazza – Il Circo di Sant’Isidoro.\n 	Domenica 7 settembre – Ore 
 10:00: Santa Messa\; ore 11:00: rinfresco comunitario e giochi per bambini
 \; dalle ore 15:00: giochi popolari e intrattenimenti\; ore 16:00: spaccap
 ignatte\, stand gastronomici e gara del “Peso del prosciutto”\; ore 20
 :30: serata conclusiva con l’orchestra “Le Stelle della Musica”.\n\n
 La Festa Patronale di Sant’Isidoro costituisce un momento di aggregazion
 e e di valorizzazione del patrimonio culturale e sociale della comunità. 
 L’iniziativa\, portata avanti con immutata passione da oltre cinquant’
 anni\, si arricchisce oggi del contributo delle nuove generazioni\, garant
 endo continuità\, innovazione e futuro.
ATTACH;FMTTYPE=image/jpeg:https://lazioeventi.com/wp-content/uploads/2025/
 08/VOLANTINO-2025_Tavola-disegno-1-2.jpg
CATEGORIES:Musica, Spettacoli e Danza nel Lazio,Sagre, Gastronomia e
 Tradizioni nel Lazio,Sport, Tempo Libero e Divertimento nel Lazio
LOCATION:Sabaudia\, Comune\, Sabaudia\, Latina\, Lazio\, Italia
GEO:41.3003;13.0255
X-APPLE-STRUCTURED-LOCATION;VALUE=URI;X-ADDRESS=Comune\, Sabaudia\, Latina\
 , Lazio\, Italia;X-APPLE-RADIUS=100;X-TITLE=Sabaudia:geo:41.3003,13.0255
END:VEVENT
BEGIN:VTIMEZONE
TZID:Europe/Rome
X-LIC-LOCATION:Europe/Rome
BEGIN:DAYLIGHT
DTSTART:20250330T030000
TZOFFSETFROM:+0100
TZOFFSETTO:+0200
TZNAME:CEST
END:DAYLIGHT
END:VTIMEZONE
END:VCALENDAR