BEGIN:VCALENDAR
VERSION:2.0
PRODID:-//wp-events-plugin.com//7.2.3.1//EN
TZID:Europe/Rome
X-WR-TIMEZONE:Europe/Rome
BEGIN:VEVENT
UID:27911@lazioeventi.com
DTSTART;TZID=Europe/Rome:20201024T100000
DTEND;TZID=Europe/Rome:20201025T233000
DTSTAMP:20201020T081220Z
URL:https://lazioeventi.com/eventi/festa-siciliana
SUMMARY:Festa Siciliana - Roma - 24 Ottobre 20 10:00
DESCRIPTION:Prodotti tipici\, folklore\, cabaret Nasce per far rivivere i c
 olori\, i suoni\, gli odori i gusti della Sicilia\, con prodotti tipici de
 l territorio. Grande spazio verrà dato ai prodotti enogastronomici\, valo
 rizzando la cultura del cibo. Si potranno gus
ATTACH;FMTTYPE=image/jpeg:https://lazioeventi.com/wp-content/uploads/2020/
 10/festa-siciliana.jpg
CATEGORIES:Sagre, Gastronomia e Tradizioni nel Lazio
LOCATION:Roma\, Via Leopardi\, Roma\, Roma\, Lazio\, Italia
GEO:41.8942;12.5017
X-APPLE-STRUCTURED-LOCATION;VALUE=URI;X-ADDRESS=Via Leopardi\, Roma\, Roma\
 , Lazio\, Italia;X-APPLE-RADIUS=100;X-TITLE=Roma:geo:41.8942,12.5017
END:VEVENT
BEGIN:VTIMEZONE
TZID:Europe/Rome
X-LIC-LOCATION:Europe/Rome
BEGIN:DAYLIGHT
DTSTART:20200329T030000
TZOFFSETFROM:+0100
TZOFFSETTO:+0200
TZNAME:CEST
END:DAYLIGHT
BEGIN:STANDARD
DTSTART:20201025T020000
TZOFFSETFROM:+0200
TZOFFSETTO:+0100
TZNAME:CET
END:STANDARD
END:VTIMEZONE
END:VCALENDAR