BEGIN:VCALENDAR
VERSION:2.0
PRODID:-//wp-events-plugin.com//7.2.3.1//EN
TZID:Europe/Rome
X-WR-TIMEZONE:Europe/Rome
BEGIN:VEVENT
UID:32391@lazioeventi.com
DTSTART;TZID=Europe/Rome;VALUE=DATE:20220917
DTEND;TZID=Europe/Rome;VALUE=DATE:20220926
DTSTAMP:20220919T171251Z
URL:https://lazioeventi.com/eventi/festeggiamenti-per-san-maurizio
SUMMARY:Festeggiamenti per San Maurizio - Acuto - 17 Settembre 22 00:00
DESCRIPTION:Dopo una “Estate acutina” densa di attività ed eventi impo
 rtanti e partecipati\, l’amministrazione comunale ha voluto riservare an
 che ai festeggiamenti per il Santo Patrono una adeguata attenzione\, con i
  tradizionali momenti istituzionali\, il concerto del 22 settembre con i 
 “Son” e la partecipazione di Beppe Carletti e Yuri Cilloni dei Nomadi\
 , uno spettacolo serale del gruppo di giovani locali “Ragazzacci”\, 
 “Battiti e Battute”\, screening per la prevenzione dell’Ictus.\n\nUn
  grande spazio alla valorizzazione del centro storico con “Lume e Lustro
 ”\, il 23 e 24 settembre\, organizzato in collaborazione e grazie al gra
 nde impegno ed alla passione dell’associazione “R’Entra”\, con rap
 presentazioni della tradizione\, iniziative musicali e di intrattenimento\
 , con Franco Arminio\, i concerti diretti dal maestro Maurizio Sparagna\, 
 gli immancabili momenti conviviali\, un momento istituzionale di inauguraz
 ione di “Largo Tore”.\n\nNon mancherà l’apertura dei siti di intere
 sse storico a cura dell’associazione “L’occhio e la Memoria” e dei
  ragazzi del Servizio Civile. Grazie alla collaborazione con quest’ultim
 a associazione si è pensato poi alla riscoperta e valorizzazione del Sent
 iero Natura\, nella zona montana\, con la organizzazione di una mostra nel
 la chiesa di San Sebastiano\, a cura di Bruno Petriglia\, e il rifacimento
  delle tabelle descrittive del sentiero.\n\n“A chiusura degli eventi est
 ivi ed a proposito di riscoperta delle radici e della storia\, stiamo orga
 nizzando per il mese di ottobre un importante convegno sulla Madonna di Ac
 uto e sulle feste acutine dal XVII secolo ad oggi\, con la contestuale pub
 blicazione di un libro su questi due temi\, grazie all’impegno e alle ri
 cerche del nostro storico Nino Piras ed alla collaborazione dell’Istitut
 o di Storia e di Arte del Lazio Meridionale”\, spiega il sindaco di Acut
 o Augusto Agostini.\n\nI festeggiamenti patronali\, unitamente alle tante 
 altre iniziative di questa intensa estate acutina 2022 che ha visto la org
 anizzazione di eventi di grande richiamo e promozione del paese\, quali 
 “Acuto Jazz” e “Saltaranta”\, i concerti del 15\, 16 e 17 agosto\,
  realizzati in collaborazione con l’associazione Pro Loco\, Etnie in Fes
 ta\, iniziativa inclusiva realizzata con le comunità straniere residenti 
 ad Acuto\, Contesa Castrum Acuti\, Sonora\, Canistro\, per accennare alle 
 iniziative più significative\, costituiscono un grande motivo di soddisfa
 zione per l’amministrazione comunale che ha potuto cogliere questi risul
 tati anche grazie all’acquisizione di vari ed importanti contributi regi
 onali e provinciali e alla indispensabile collaborazione di molti\, cittad
 ini\, servizio civile\, associazioni operanti proficuamente nel paese cui 
 vogliamo esprimere tutta la nostra gratitudine”.
ATTACH;FMTTYPE=image/jpeg:https://lazioeventi.com/wp-content/uploads/2022/
 09/SAN-MAURIZIO-acuto.jpg
CATEGORIES:Arte e Cultura nel Lazio,Sagre, Gastronomia e Tradizioni nel
 Lazio,Sport, Tempo Libero e Divertimento nel Lazio
LOCATION:Acuto\, Comune\, Acuto\, Frosinone\, Lazio\, Italia
GEO:41.792919;13.17409900000007
X-APPLE-STRUCTURED-LOCATION;VALUE=URI;X-ADDRESS=Comune\, Acuto\, Frosinone\
 , Lazio\, Italia;X-APPLE-RADIUS=100;X-TITLE=Acuto:geo:41.792919,13.1740990
 0000007
END:VEVENT
BEGIN:VTIMEZONE
TZID:Europe/Rome
X-LIC-LOCATION:Europe/Rome
BEGIN:DAYLIGHT
DTSTART:20220327T030000
TZOFFSETFROM:+0100
TZOFFSETTO:+0200
TZNAME:CEST
END:DAYLIGHT
END:VTIMEZONE
END:VCALENDAR