BEGIN:VCALENDAR
VERSION:2.0
PRODID:-//wp-events-plugin.com//7.2.3.1//EN
TZID:Europe/Rome
X-WR-TIMEZONE:Europe/Rome
BEGIN:VEVENT
UID:41571@lazioeventi.com
DTSTART;TZID=Europe/Rome:20250524T100000
DTEND;TZID=Europe/Rome:20250525T200000
DTSTAMP:20250517T142744Z
URL:https://lazioeventi.com/eventi/festeggiamenti-religiosi-in-onore-dei-s
 anti-patroni
SUMMARY:Festeggiamenti religiosi in onore dei Santi Patroni - Carbognano - 
 24 Maggio 25 10:00
DESCRIPTION:Carbognano\, festeggiamenti religiosi in onore dei Santi Patron
 i\n\nSabato 24 e domenica 25 maggio 2025 a Carbognano si rinnova l’annua
 le appuntamento con le feste patronali in onore di Sant'Eutizio e San Fili
 ppo Neri. Tra gli appuntamenti in programma\, organizzati dalla parrocchia
  San Pietro Apostolo\, spicca\, domenica 25\, con inizio alle ore 18\, la 
 testimonianza – incontro con l'attrice Claudia Koll\, preceduta\, sabato
  24\, dalla solenne processione con il trasporto delle statue dei Santi pa
 troni\, accompagnata dalla banda musicale “Le tre spighe di Carbognano
 ”\, e dalla conferenza di Padre Luciano Bella dell'oratorio di San Filip
 po Neri su "Filippo Neri: un cuore lieto\, gioia e speranza nel pellegrina
 ggio della vita" e della dott.ssa Francesca Patrizi dal titolo "Tra storia
  e devozione: la chiesa che unisce Sant'Eutizio e San Filippo Neri".\n\nPr
 ogramma completo :\n\nSABATO 24 MAGGIO\n\nOre 10\,30\nCelebrazione della S
 anta messa nella chiesa di San Filippo Neri.\n\nOre 18\,00\nSolenne proces
 sione con il trasporto delle statue dei Santi patroni accompagnata dalla b
 anda musicale “Le tre spighe di Carbognano”.\n\nOre 18\,30 - Chiesa di
  San Pietro Apostolo\nConferenza a cura di Padre Luciano Bella dell'orator
 io di San Filippo Neri su "Filippo Neri: un cuore lieto\, gioia e speranza
  nel pellegrinaggio della vita" e della dott.ssa Francesca Patrizi su "Tra
  storia e devozione: la chiesa che unisce Sant'Eutizio e San Filippo Neri"
 .\n\n\nDOMENICA 25 MAGGIO\n\nOre 11 - Chiesa di San Pietro Apostolo\nCeleb
 razione della Santa messa solenne di San Filippo Neri animata dall'associa
 zione musicale "La settima nota" di Manziana.\n\nOre 18 – Testimonianza 
 – incontro con Claudia Koll
ATTACH;FMTTYPE=image/jpeg:https://lazioeventi.com/wp-content/uploads/2025/
 05/festa1.jpg
CATEGORIES:Sagre, Gastronomia e Tradizioni nel Lazio,Varie
LOCATION:Carbognano\, Comune\, Carbognano\, Viterbo\, Lazio\, Italia
GEO:42.3322;12.2666
X-APPLE-STRUCTURED-LOCATION;VALUE=URI;X-ADDRESS=Comune\, Carbognano\, Viter
 bo\, Lazio\, Italia;X-APPLE-RADIUS=100;X-TITLE=Carbognano:geo:42.3322,12.2
 666
END:VEVENT
BEGIN:VTIMEZONE
TZID:Europe/Rome
X-LIC-LOCATION:Europe/Rome
BEGIN:DAYLIGHT
DTSTART:20250330T030000
TZOFFSETFROM:+0100
TZOFFSETTO:+0200
TZNAME:CEST
END:DAYLIGHT
END:VTIMEZONE
END:VCALENDAR