BEGIN:VCALENDAR
VERSION:2.0
PRODID:-//wp-events-plugin.com//7.2.3.1//EN
TZID:Europe/Rome
X-WR-TIMEZONE:Europe/Rome
BEGIN:VEVENT
UID:44276@lazioeventi.com
DTSTART;TZID=Europe/Rome;VALUE=DATE:20260508
DTEND;TZID=Europe/Rome;VALUE=DATE:20260511
DTSTAMP:20260422T065751Z
URL:https://lazioeventi.com/eventi/festival-degli-aquiloni
SUMMARY:Festival degli Aquiloni - Roma - 8 Maggio 26 00:00
DESCRIPTION:Festival degli Aquiloni di Roma 8-9-10 Maggio\nAl Parco degli A
 cquedotti\, bellissimo parco del Parco Regionale dell'Appia Antica\, patri
 monio Unesco.\n\nGrazie al Municipio VII di Roma e all'assessore alla Cult
 ura Riccardo Sbordoni per il patrocinio con contribuito ed il supporto fat
 tivo alla realizzazione di questo festival.\n\nGli organizzatori insieme a
 i Maestri di Aquiloni in arrivo dalla Cina vi invitano a partecipare a que
 sto meraviglioso evento\, simbolo di bellezza\, cultura\, libertà\, salut
 e e unione tra due mondi sulla via della Seta e del Vento.\nMoltissime le 
 attività...vi sveliamo le prime\n\n- Area Palco e Spettacoli: con cerimon
 ie\, conferenze\, spettacoli artistici e musicali\, proiezioni di film\n- 
 Area Gastronomia cinese: con un'ampia selezione di specialità gastronomic
 he tra le più apprezzate\n- Area Cultura: artigianato\, musica\, calligra
 fia\, cerimonia del tè e sfilate di moda Hanfu\n- Area Laboratori Artigia
 nali e Creativi: dimostrazioni\, prove di calligrafia cinese\, attività t
 radizionali che si alterneranno\n- Area GiocoBimbi: divertimento per tutte
  le età con giochi tradizionali e creativi.\n- Area di volo Aquiloni: mos
 tre\, gare\, laboratori di costruzione e dimostrazioni di volo.\n- Area Ar
 ti marziali\, Salute e Benessere: lezioni e dimostrazioni di Ginnastica Ci
 nese\, Tai Chi\, Qi Gong e Kung Fu per tutte le età.\n- Area Ristoro e re
 lax: dove rilassarsi e gustare uno spuntino o una bibita fresca.\n\nL'even
 to è gratuito
ATTACH;FMTTYPE=image/jpeg:https://lazioeventi.com/wp-content/uploads/2026/
 04/festival-aquiloni.jpg
CATEGORIES:Sport, Tempo Libero e Divertimento nel Lazio,Varie
LOCATION:Roma\, Via Leopardi\, Roma\, Roma\, Lazio\, Italia
GEO:41.8942;12.5017
X-APPLE-STRUCTURED-LOCATION;VALUE=URI;X-ADDRESS=Via Leopardi\, Roma\, Roma\
 , Lazio\, Italia;X-APPLE-RADIUS=100;X-TITLE=Roma:geo:41.8942,12.5017
END:VEVENT
BEGIN:VTIMEZONE
TZID:Europe/Rome
X-LIC-LOCATION:Europe/Rome
BEGIN:DAYLIGHT
DTSTART:20260329T030000
TZOFFSETFROM:+0100
TZOFFSETTO:+0200
TZNAME:CEST
END:DAYLIGHT
END:VTIMEZONE
END:VCALENDAR