BEGIN:VCALENDAR
VERSION:2.0
PRODID:-//wp-events-plugin.com//7.2.3.1//EN
TZID:Europe/Rome
X-WR-TIMEZONE:Europe/Rome
BEGIN:VEVENT
UID:27127@lazioeventi.com
DTSTART;TZID=Europe/Rome:20200821T200000
DTEND;TZID=Europe/Rome:20200823T233000
DTSTAMP:20200727T085212Z
URL:https://lazioeventi.com/eventi/festival-dei-cantautori-italiani
SUMMARY:Festival dei Cantautori Italiani - Sabaudia - 21 Agosto 20 20:00
DESCRIPTION:Festival dei Cantautori Italiani: si bissa! Dopo il grande succ
 esso dell’edizione “zero” nell’estate 2019\, torna a Sabaudia la r
 assegna cult dell’estate. Tre serate di show musicale\, da venerdì 21 a
  domenica 23 agosto 2020\, all’insegna d
ATTACH;FMTTYPE=image/jpeg:https://lazioeventi.com/wp-content/uploads/2020/
 07/festival-cantautori.jpg
CATEGORIES:Musica, Spettacoli e Danza nel Lazio
LOCATION:Sabaudia\, Comune\, Sabaudia\, Latina\, Lazio\, Italia
GEO:41.3003;13.0255
X-APPLE-STRUCTURED-LOCATION;VALUE=URI;X-ADDRESS=Comune\, Sabaudia\, Latina\
 , Lazio\, Italia;X-APPLE-RADIUS=100;X-TITLE=Sabaudia:geo:41.3003,13.0255
END:VEVENT
BEGIN:VTIMEZONE
TZID:Europe/Rome
X-LIC-LOCATION:Europe/Rome
BEGIN:DAYLIGHT
DTSTART:20200329T030000
TZOFFSETFROM:+0100
TZOFFSETTO:+0200
TZNAME:CEST
END:DAYLIGHT
END:VTIMEZONE
END:VCALENDAR