BEGIN:VCALENDAR
VERSION:2.0
PRODID:-//wp-events-plugin.com//7.2.3.1//EN
TZID:Europe/Rome
X-WR-TIMEZONE:Europe/Rome
BEGIN:VEVENT
UID:38828@lazioeventi.com
DTSTART;TZID=Europe/Rome:20240425T100000
DTEND;TZID=Europe/Rome:20240501T210000
DTSTAMP:20240322T122956Z
URL:https://lazioeventi.com/eventi/festival-dei-nativi-americani-2
SUMMARY:Festival dei Nativi Americani - Roma - 25 Aprile 24 10:00
DESCRIPTION:Il Festival dei Nativi Americani torna al Festival del Mondo\n\
 nTuffati nell'affascinante e coinvolgente mondo dei Nativi d'America!!!\n\
 nFiera Roma sabato 20\, domenica 21\, giovedì 25\, sabato 27\, domenica 2
 8 Aprile e mercoledì 1 Maggio 2024\n\nPotrai vivere la straordinaria atmo
 sfera delle tribù degli Indiani d'America: un viaggio attraverso la cultu
 ra\, le tradizioni\, la spiritualità\, le danze e il folklore dei Nativi 
 Americani !\n\nMa non solo!!! Con un unico Biglietto potrete visitare i 30
  Festival che si svolgono in contemporanea nei 6 giorni di manifestazione:
  il Festival dell'Oriente \, Expo Japan\, il Festival Irlandese\, il Festi
 val Scozzese\, il Festival Country\, il Rodeo di Monta dei Tori\, gli spet
 tacoli con i Cavalli\, il That's America\, il Festival dei Nativi American
 i\, il Festival dell'America Latina\, il Festival Argentino\, il Festival 
 del Brasile\, il Festival Spagnolo\, il Festival del Giappone\, il Festiva
 l del Portogallo\, il Festival del Brasile\, il Sushi Village\, il Festiva
 l della Salute e Benessere\, l'American Motor Show con il ritorno del Mons
 ter Truck\, il Motor Village\, l'Holi Festival\, i Giochi dal Mondo\, il F
 estival degli Artisti da Strada\, Sport Games\, lo Street World Food Festi
 val\, la Sfida delle Grigliate\, Il Festival della Danza\, il Festival del
  Folklore Romano e tantissimi altri format.\n\nSei imperdibili giornate ch
 e partendo da Roma vi faranno esplorare musica\, cultura\, gastronomia\, f
 olklore e spettacoli emozionanti provenienti da tutto il mondo!!\n\nVi asp
 ettiamo !!\n\nOrario: 10.00 – 21.00
ATTACH;FMTTYPE=image/jpeg:https://lazioeventi.com/wp-content/uploads/2024/
 03/festival-nativi-americani.jpg
CATEGORIES:Fiere e Mercatini nel Lazio,Musica, Spettacoli e Danza nel
 Lazio,Sport, Tempo Libero e Divertimento nel Lazio
LOCATION:Roma\, Via Leopardi\, Roma\, Roma\, Lazio\, Italia
GEO:41.8942;12.5017
X-APPLE-STRUCTURED-LOCATION;VALUE=URI;X-ADDRESS=Via Leopardi\, Roma\, Roma\
 , Lazio\, Italia;X-APPLE-RADIUS=100;X-TITLE=Roma:geo:41.8942,12.5017
END:VEVENT
BEGIN:VTIMEZONE
TZID:Europe/Rome
X-LIC-LOCATION:Europe/Rome
BEGIN:DAYLIGHT
DTSTART:20240331T030000
TZOFFSETFROM:+0100
TZOFFSETTO:+0200
TZNAME:CEST
END:DAYLIGHT
END:VTIMEZONE
END:VCALENDAR