BEGIN:VCALENDAR
VERSION:2.0
PRODID:-//wp-events-plugin.com//7.2.3.1//EN
TZID:Europe/Rome
X-WR-TIMEZONE:Europe/Rome
BEGIN:VEVENT
UID:32147@lazioeventi.com
DTSTART;TZID=Europe/Rome:20220910T170000
DTEND;TZID=Europe/Rome:20220910T230000
DTSTAMP:20220901T173617Z
URL:https://lazioeventi.com/eventi/festival-della-cultura-popolare-terrein
 azione
SUMMARY:Festival della Cultura Popolare “TerreInAzione - Fiuggi - 10 Sett
 embre 22 17:00
DESCRIPTION:La danza\, la musica e la cultura popolare ripartono da Fiuggi.
 \n\nIl Festival della Cultura Popolare “TerreInAzione”\, fiore all’o
 cchiello dell’associazione anagnina Cotula A.P.S.\, si svolgerà a Fiugg
 i il prossimo sabato 10 settembre.\n\nCotula\, sodalizio da anni impegnato
  nel mondo della danza e della musica popolare e promotore della seguitiss
 ima kermesse avviata nell’estate del 2016\, quest’anno in collaborazio
 ne con l’associazione fiuggina Tadà A.S.D.C.\, riprenderà quest’anno
  nella città termale dopo il triste periodo della pandemia con un evento 
 di presentazione della quinta edizione che le due associazioni\, con il co
 ntributo dell’Amministrazione Comunale di Fiuggi\, stanno programmando p
 er l’estate prossima.\n\nLa giornata di sabato 10 prevede una serie di i
 niziative che riflettono lo spirito ed i principi ispiratori del Festival:
  TerreInAzione ha inteso sempre valorizzare le potenzialità del territori
 o\, le sue risorse storiche e naturalistiche\, il confronto dell’identit
 à culturale e delle tradizioni della Ciociaria con quelle delle aree del 
 Centro Sud Italia e del Mediterraneo\, valorizzando non solo l’aspetto d
 ella musica e della danza ma anche quello relativo a tutte le espressioni 
 artistiche\, storiche\, enogastronomiche e culturali di ogni genere.\n\nNe
 l nutrito programma di eventi sono previsti laboratori di danze tradiziona
 li\, visite guidate nella città termale\, itinerari storico-naturalistici
  e perfino un momento dedicato ai “giochi di una volta”\, giochi tradi
 zionali che rallegravano\, un tempo\, i nostri ragazzi.\nLa giornata si co
 ncluderà la sera\, in Piazza Trento e Trieste\, con il Concertone dal tit
 olo “Piazza Mediterraneo”\, nel quale si confronteranno i diversi gene
 ri e stili musicali e di danza della tradizione popolare del Centro Sud\, 
 partendo dal Saltarello\, alla Pizzica\, alla Tammurriata\, alla Siciliana
  alle tarantelle in generale e ai canti della tradizione\, grazie alla pre
 senza di musicisti di richiamo nazionale ed internazionale. La parte music
 ale è stata coordinata e guidata dal maestro Giuliano Gabriele (che non p
 otrà essere presente alla serata per impegni già programmati)\, che da a
 nni collabora con il Festival TerreInAzione come Maestro Concertatore: Giu
 liano Gabriele ha voluto realizzare questo viaggio nella bellezza e nell
 ’arte con una formazione composta da artisti provenienti dalle diverse a
 ree del centrosud Italia: La Ciociaria ed il Lazio saranno rappresentati d
 a Giorgia Parmeni e Luca Attura\; la ricca tradizione musicale campana sar
 à proposta da Dario Mogavero (tammorra e voce) ed Eustachio Frongillo (fi
 sarmonica e chitarra)\; Pietro Cernuto dalla Sicilia e ai fiati (zampogna 
 e friscaletto) e Claudio Prima dal Salento (organetto e voce). La rassegna
 \, presentata ad Anagni fino al 2019\, quest’anno ha potuto riprendere i
 l proprio percorso grazie alla collaborazione con l’associazione Tadà e
  al sostegno del Comune di Fiuggi che ha voluto credere e patrocinare l’
 iniziativa.\n\nUn’occasione per ripartire ma anche un’opportunità di 
 perseguire gli obiettivi del Festival\, tra questi la sinergia con altre r
 ealtà associative e la possibilità di creare nel tempo un percorso cultu
 rale che\, nel periodo estivo\, riesca a coinvolgere i più importanti cen
 tri del nord della Ciociaria portando festa\, allegria e cultura. Appuntam
 ento\, dunque\, a sabato 10 settembre a Fiuggi con TerreInAzione".
ATTACH;FMTTYPE=image/jpeg:https://lazioeventi.com/wp-content/uploads/2022/
 09/Locandina-per-Redazioni.jpg
CATEGORIES:Musica, Spettacoli e Danza nel Lazio,Sport, Tempo Libero e
 Divertimento nel Lazio
LOCATION:Fiuggi\, Comune di Fiuggi\, Fiuggi\, Frosinone\, Lazio\, Italia
GEO:41.8039;13.2218
X-APPLE-STRUCTURED-LOCATION;VALUE=URI;X-ADDRESS=Comune di Fiuggi\, Fiuggi\,
  Frosinone\, Lazio\, Italia;X-APPLE-RADIUS=100;X-TITLE=Fiuggi:geo:41.8039,
 13.2218
END:VEVENT
BEGIN:VTIMEZONE
TZID:Europe/Rome
X-LIC-LOCATION:Europe/Rome
BEGIN:DAYLIGHT
DTSTART:20220327T030000
TZOFFSETFROM:+0100
TZOFFSETTO:+0200
TZNAME:CEST
END:DAYLIGHT
END:VTIMEZONE
END:VCALENDAR