BEGIN:VCALENDAR
VERSION:2.0
PRODID:-//wp-events-plugin.com//7.2.3.1//EN
TZID:Europe/Rome
X-WR-TIMEZONE:Europe/Rome
BEGIN:VEVENT
UID:32182@lazioeventi.com
DTSTART;TZID=Europe/Rome:20220910T170000
DTEND;TZID=Europe/Rome:20220910T234500
DTSTAMP:20220904T171914Z
URL:https://lazioeventi.com/eventi/festival-della-cultura-popolare
SUMMARY:Festival della Cultura Popolare - Fiuggi - 10 Settembre 22 17:00
DESCRIPTION:Terre In Azione - Festival della Cultura Popolare\n\nTorna la s
 eguitissima Kermesse iniziata nell’estate del 2016\, promossa e organizz
 ata dall'Associazione Cotula\, che promuove da anni la cultura della danza
  e della musica popolare.\nRealizzato con il contributo del Comune di Fiug
 gi ed in collaborazione con l’associazione Tadà\, arriva nella città t
 ermale\, l'evento di presentazione della V° Edizione del Festival "Terre 
 In Azione" in programma per l'estate 2023\, con l'obiettivo di promuovere 
 le tradizioni musicali\, storiche\, enogastronomiche e culturali dei terri
 tori del Centro Sud Italia\n\n**PROGRAMMA**\n\nPIAZZA SPADA (Fiuggi Fonte)
 \nOre 17.00 - Giochi di una volta\nOre 17.30 - Trantellab ( Laboratorio di
  danze popolari)\n\nPIAZZA TRENTO e TRIESTE - Fiuggi Città\nORE 18.45\nVi
 sita guidata "Il Borgo e i suoi racconti"\nORE 21.00 - CONCERTO DI MUSICA 
 POPOLARE "PIAZZA MEDITERRANEO": Pizzica\, Tammurriata\, Saltarello e taran
 telle del Centro Sud\nCoordinamento Maestro Concertatore *Giuliano Gabriel
 e*\n\nMusicisti di richiamo nazionale ed internazionale provenienti da div
 erse aree del centrosud Italia:\n\nCIOCIARIA E LAZIO\n*Giorgia Parmeni (Vo
 ce)\n*Luca Attura (Tamburello)\n\nCAMPANIA\n*Dario Mogavero (Tammorra e vo
 ce) *Eustachio Frongillo (Fisarmonica e chitarra)\n\nSICILIA\n*Pietro Cern
 uto (Zampogna e Friscaletto)\n\nSALENTO\nClaudio Prima (Organetto e Voce).
ATTACH;FMTTYPE=image/jpeg:https://lazioeventi.com/wp-content/uploads/2022/
 09/terre-in-azione.jpg
CATEGORIES:Musica, Spettacoli e Danza nel Lazio
LOCATION:Fiuggi\, Comune di Fiuggi\, Fiuggi\, Frosinone\, Lazio\, Italia
GEO:41.8039;13.2218
X-APPLE-STRUCTURED-LOCATION;VALUE=URI;X-ADDRESS=Comune di Fiuggi\, Fiuggi\,
  Frosinone\, Lazio\, Italia;X-APPLE-RADIUS=100;X-TITLE=Fiuggi:geo:41.8039,
 13.2218
END:VEVENT
BEGIN:VTIMEZONE
TZID:Europe/Rome
X-LIC-LOCATION:Europe/Rome
BEGIN:DAYLIGHT
DTSTART:20220327T030000
TZOFFSETFROM:+0100
TZOFFSETTO:+0200
TZNAME:CEST
END:DAYLIGHT
END:VTIMEZONE
END:VCALENDAR