BEGIN:VCALENDAR
VERSION:2.0
PRODID:-//wp-events-plugin.com//7.2.3.1//EN
TZID:Europe/Rome
X-WR-TIMEZONE:Europe/Rome
BEGIN:VEVENT
UID:31912@lazioeventi.com
DTSTART;TZID=Europe/Rome:20220805T211500
DTEND;TZID=Europe/Rome:20220805T223000
DTSTAMP:20220805T085018Z
URL:https://lazioeventi.com/eventi/festival-delle-citta-medievali
SUMMARY:Festival delle città medievali - Fiuggi - 5 Agosto 22 21:15
DESCRIPTION:Dopo il successo del Klaviol Trio a Vicovaro (Roma)\, il Festiv
 al dei Borghi e delle Città Medievali apre un mese di agosto con spettaco
 li e serate di altissimo livello. \nSempre a Vicovaro\, giovedì 4\, è in
  programma un concerto sui grandi musicisti del cinema italiano. \n\nIn pi
 azza San Pietro\, alle 21.15\, sarà l’Orchestra Filarmonica della Calab
 ria\, diretta da Vincenzo Mariozzi\, a eseguire un programma che prevede b
 rani di Nino Rota\, Riz Ortolani\, Nicola Piovani\, Armando Travajoli\, Di
 mitri Shosyakovic ed Ennio Morricone. \n\nIl giorno dopo\, venerdì 5\, si
  va invece a Fiuggi (Frosinone)\, dove nella Collegiata di San Pietro (ore
  21\,15) ci sarà l’Omaggio a Ennio Morricone\, sempre con l’Orchestra
  Filarmonica della Calabria. \nUn concerto che sarà replicato il giorno s
 uccessivo (sabato 6\, ore 21.30) di nuovo a Vicovaro in Piazza San Pietro\
 , dopo aver annullato quello in un primo momento previsto a Cervara di Rom
 a.\n\nDomenica 7\, ore 18\, ancora «Omaggio a Morricone»\, stavolta nell
 a Villa di Traiano agli Altipiani di Arcinazzo\, per il primo dei quattro 
 appuntamenti nella località turistica. Subito dopo\, nella stessa serata\
 , ci si trasferisce a Paliano (Frosinone)\, ancora con l’Orchestra Filar
 monica della Calabria che\, alle 21.30\, si esibirà in Corso Umberto I° 
 con le musiche dei grandi musicisti del cinema italiano. \n\nIl «Città M
 edievali» andrà avanti fino al 3 settembre con ben ventisette appuntamen
 ti in centri importanti\, ma anche in piccoli comuni (Sambuci\, a Roccagio
 vine\, Rocca Canterano\, Mandela\, Arsoli\, Licenza\, Anticoli Corrado\, R
 oiate e Ciciliano) che avranno così l’opportunità di ospitare la stori
 ca kermesse di musica classica\, tra le più longeve e prestigiose nel pan
 orama musicale italiano. «In questo modo – spiega il direttore artistic
 o\, Vincenzo Mariozzi – vogliamo valorizzare i beni architettonici e i s
 iti archeologici della Valle dell’Aniene\, dove realizzare progetti lega
 ti alla cultura musicale. Le bellezze del territorio potrebbero così dive
 ntare\, attraverso la musica\, un ponte di collegamento con i circuiti tur
 istici internazionali».\n\nLa stagione musicale del Festival è sponsoriz
 zata da Acea acqua e dalla Bcc di Paliano.
ATTACH;FMTTYPE=image/jpeg:https://lazioeventi.com/wp-content/uploads/2022/
 08/citta-medievali.jpg
CATEGORIES:Musica, Spettacoli e Danza nel Lazio
LOCATION:Fiuggi\, Comune di Fiuggi\, Fiuggi\, Frosinone\, Lazio\, Italia
GEO:41.8039;13.2218
X-APPLE-STRUCTURED-LOCATION;VALUE=URI;X-ADDRESS=Comune di Fiuggi\, Fiuggi\,
  Frosinone\, Lazio\, Italia;X-APPLE-RADIUS=100;X-TITLE=Fiuggi:geo:41.8039,
 13.2218
END:VEVENT
BEGIN:VTIMEZONE
TZID:Europe/Rome
X-LIC-LOCATION:Europe/Rome
BEGIN:DAYLIGHT
DTSTART:20220327T030000
TZOFFSETFROM:+0100
TZOFFSETTO:+0200
TZNAME:CEST
END:DAYLIGHT
END:VTIMEZONE
END:VCALENDAR