BEGIN:VCALENDAR
VERSION:2.0
PRODID:-//wp-events-plugin.com//7.2.3.1//EN
TZID:Europe/Rome
X-WR-TIMEZONE:Europe/Rome
BEGIN:VEVENT
UID:34986@lazioeventi.com
DTSTART;TZID=Europe/Rome:20230429T100000
DTEND;TZID=Europe/Rome:20230501T210000
DTSTAMP:20230406T145659Z
URL:https://lazioeventi.com/eventi/festival-delle-mille-e-una-notte-2
SUMMARY:Festival delle Mille e una Notte - Roma - 29 Aprile 23 10:00
DESCRIPTION:Torna il Festival delle Mille e una Notte a Roma Incontra il Mo
 ndo!\n\nPer vivere una fiaba... Fiera Roma sabato 22\, domenica 23\, marte
 dì 25\, sabato 29\, domenica 30 Aprile e lunedì 1 Maggio.\n\nTra le cald
 e ed affascinanti atmosfere mediorientali\, tra i bazar\, tra gli inebrian
 ti profumi delle spezie e degli incensi\, tra i movimenti delle seducenti 
 danzatrici del ventre... Potrai riscoprire le tradizioni\, il folklore\, l
 a musica\, e l'enogastronomia di questo affascinante e antico Mondo!\nTi a
 spettiamo a braccia aperte per condividere la magia di questa meravigliosa
  atmosfera!\n\nCon un unico biglietto potrete visitare contemporaneamente:
  il Festival dell'Oriente\, il Festival Irlandese\, il Festival Country\, 
 il That's America\, il Festival dei Nativi Americani\, il Festival dell'Am
 erica Latina\, il Festival Argentino\, il Festival Spagnolo\, il Festival 
 del Giappone\, il Sushi Village\, il Festival della Salute e Benessere \, 
 l'American Motor Show\, il Motor Village\, il Festival del Vento\, la Mong
 olfiera\, l'Holi Festival\, i Giochi dal Mondo\, il Festival degli Artisti
  da Strada\, Sport Games\, lo Street World Food Festival\, la Sfida delle 
 Grigliate e tantissimi altri format.\n\nSei imperdibili giornate che parte
 ndo da Roma vi faranno esplorare musica\, cultura\, gastronomia\, folklore
  e spettacoli emozionanti provenienti da tutto il mondo !!\n\norario: 10.0
 0 – 21.00\n\nScopri di più sul sito di Roma Incontra il Mondo: https://
 www.romaincontrailmondo.it/\n\nIL BIGLIETTO SI ACQUISTA PRESSO LE BIGLIETT
 ERIE. IN OCCASIONE DELL'EVENTO SARANNO ATTIVE LE BIGLIETTERIE DI FIERA ROM
 A DELL'INGRESSO NORD E LE BIGLIETTERIE DELL'INGRESSO EST: PIANI TERRA E PI
 ANI PRIMI.\nBIGLIETTI: OMAGGIO FINO A 8 ANNI. RIDOTTO A 10 EURO DA 8 A 12 
 ANNI. INTERO 15 EURO\n\nOrario 10.00 – 21.00
ATTACH;FMTTYPE=image/jpeg:https://lazioeventi.com/wp-content/uploads/2023/
 04/mille-e-notte-roma.jpg
CATEGORIES:Fiere e Mercatini nel Lazio,Musica, Spettacoli e Danza nel
 Lazio,Sport, Tempo Libero e Divertimento nel Lazio
LOCATION:Roma\, Via Leopardi\, Roma\, Roma\, Lazio\, Italia
GEO:41.8942;12.5017
X-APPLE-STRUCTURED-LOCATION;VALUE=URI;X-ADDRESS=Via Leopardi\, Roma\, Roma\
 , Lazio\, Italia;X-APPLE-RADIUS=100;X-TITLE=Roma:geo:41.8942,12.5017
END:VEVENT
BEGIN:VTIMEZONE
TZID:Europe/Rome
X-LIC-LOCATION:Europe/Rome
BEGIN:DAYLIGHT
DTSTART:20230326T030000
TZOFFSETFROM:+0100
TZOFFSETTO:+0200
TZNAME:CEST
END:DAYLIGHT
END:VTIMEZONE
END:VCALENDAR